BEGIN:VCALENDAR
VERSION:2.0
PRODID:-//Royal Asiatic Society - ECPv6.15.20//NONSGML v1.0//EN
CALSCALE:GREGORIAN
METHOD:PUBLISH
X-WR-CALNAME:Royal Asiatic Society
X-ORIGINAL-URL:https://royalasiaticsociety.org
X-WR-CALDESC:Events for Royal Asiatic Society
REFRESH-INTERVAL;VALUE=DURATION:PT1H
X-Robots-Tag:noindex
X-PUBLISHED-TTL:PT1H
BEGIN:VTIMEZONE
TZID:Europe/London
BEGIN:DAYLIGHT
TZOFFSETFROM:+0000
TZOFFSETTO:+0100
TZNAME:BST
DTSTART:20250330T010000
END:DAYLIGHT
BEGIN:STANDARD
TZOFFSETFROM:+0100
TZOFFSETTO:+0000
TZNAME:GMT
DTSTART:20251026T010000
END:STANDARD
BEGIN:DAYLIGHT
TZOFFSETFROM:+0000
TZOFFSETTO:+0100
TZNAME:BST
DTSTART:20260329T010000
END:DAYLIGHT
BEGIN:STANDARD
TZOFFSETFROM:+0100
TZOFFSETTO:+0000
TZNAME:GMT
DTSTART:20261025T010000
END:STANDARD
BEGIN:DAYLIGHT
TZOFFSETFROM:+0000
TZOFFSETTO:+0100
TZNAME:BST
DTSTART:20270328T010000
END:DAYLIGHT
BEGIN:STANDARD
TZOFFSETFROM:+0100
TZOFFSETTO:+0000
TZNAME:GMT
DTSTART:20271031T010000
END:STANDARD
END:VTIMEZONE
BEGIN:VEVENT
DTSTART;TZID=Europe/London:20260507T183000
DTEND;TZID=Europe/London:20260507T203000
DTSTAMP:20260422T003417
CREATED:20251111T164002Z
LAST-MODIFIED:20260312T101717Z
UID:24561-1778178600-1778185800@royalasiaticsociety.org
SUMMARY:RAS Collections Evening 2026
DESCRIPTION:The Society’s annual Collections Evening for 2026 will feature three talks exploring its manuscript and art collections from Malaysia\, India\, and Japan\, complemented with a post-talk object viewing session. The event programme is as follows: \n  \nTalk 1: Dr Farouk Yahya – The Maxwell Collection and Local Private Libraries in the Malay Peninsula during the 19th Century\nThe collection of Malay manuscripts and printed books of Sir William Maxwell (1846-1897)\, now held at the Society\, is remarkable in terms of the quantity and variety of the material\, many of which were acquired from local sources. This brief talk will explore some of the private libraries in the Malay peninsula that formed the basis of Maxwell’s collection\, providing a valuable insight into the acquisition and circulation of books in the region during the nineteenth century. \n  \nTalk 2: Niyu Lin – Listening to the Creek Beneath: The Palimpsest of the Faulds Album\nThis presentation will explore the Society’s Faulds Album (RAS 079)\, an Edo-period concertina album that appears to contain fragments of Buddhist imagery. It focuses on the often-overlooked underlying layers of painting and calligraphy beneath the Buddhist drawings attributed to the Kanda Sōtei atelier\, revealing the album as a palimpsest that records a shift from individual\, literati practice to collective\, institutional workshop production. \n  \nTalk 3: Professor Almut Hintze\, Professor Peter Cornwell\, and Dr Myriadne Wang – Title TBC\nThis presentation will address different aspects of a major project which saw the digitisation and online display of 55 notebooks from the Society’s Edward William West archive. These largely comprise copies of Zoroastrian texts made in north-west India in the later nineteenth century. They were photographed by postdoctoral students working as part of the Multimedia Yasna project (MUYA) and later made available online via an online collections platform. \n  \nFree and open to all. In person and online via Zoom. \nTo attend online\, email emd@royalasiaticsociety.org for a link.
URL:https://royalasiaticsociety.org/event/ras-collections-evening-2026/
LOCATION:Royal Asiatic Society Lecture Theatre\, 14 Stephenson Way\, London\, NW1 2HD\, United Kingdom
CATEGORIES:RAS Lectures & Events
ATTACH;FMTTYPE=image/jpeg:https://royalasiaticsociety.org/wp-content/uploads/2026/01/featured-image-1200x500_079-e1772382776323.jpg
END:VEVENT
BEGIN:VEVENT
DTSTART;TZID=Europe/London:20260512T183000
DTEND;TZID=Europe/London:20260512T203000
DTSTAMP:20260422T003417
CREATED:20251111T164236Z
LAST-MODIFIED:20260312T143322Z
UID:24092-1778610600-1778617800@royalasiaticsociety.org
SUMMARY:Theodore Mould - In Search of Phillipo: An Armenian Merchant Between Two Empires
DESCRIPTION:This is a joint event co-hosted with the Levantine Heritage Foundation. \n— \nAbout the Lecture\nPhilip John Nigohrus\, known as Phillipo\, was an Armenian merchant from the Ottoman Empire whose contributions to Anglo-Ottoman exchange in the eighteenth century have only recently been rediscovered. Long misidentified as an anonymous groom in George Stubbs’s portrait of the Duke of Ancaster’s Eastern horse\, Phillipo was in fact a successful merchant whose trade extended across the Ottoman Empire and Europe. \nPhillipo was born in Arapgir\, in modern-day Türkiye\, in a region known as the Armenian Highlands. His early life included service as a horse soldier in the Persian army\, before he established himself in Aleppo\, a city that stood at the centre of Levantine trade. \nIn 1767 Phillipo travelled to London\, where he demonstrated Turkish leather dyeing techniques before the Society of Arts\, earning the Society’s Gold Medal. Phillipo also imported Eastern horses into England\, which he sold to the great horse breeders of the day. Aleppo was then a vital hub for this trade and Phillipo’s trade via the Levant Company placed him at its centre. On one of his journeys to London\, Phillipo also had his portrait painted by Richard Cosway\, which was exhibited at the Royal Academy in the summer of 1771. \nPhillipo’s presence was part of wider Armenian activity in London\, which included figures such as the adventurer Joseph Emin\, a friend of Edmund Burke\, and the merchant Johannes Padre Rafael\, who brought a case against East India Company officials in the London courts. Through their connections with the Levant and India\, these individuals formed part of a diasporic network that connected the intellectual and commercial life of Enlightenment Britain to the wider world. \n  \nAbout the Speaker\nTheodore Mould read History at the University of Edinburgh and Art History at the Courtauld Institute. His work has been published in The Burlington Magazine and Oxford Dictionary of National Biography. He has worked at Artclear\, a technology company digitising the transaction of physical works of art and Anthony Mould Ltd\, a London art dealership specialising in British art. He is currently training to become a barrister.
URL:https://royalasiaticsociety.org/event/theodore-mould-in-search-of-phillipo-an-armenian-merchant-between-two-empires/
LOCATION:Royal Asiatic Society Lecture Theatre\, 14 Stephenson Way\, London\, NW1 2HD\, United Kingdom
CATEGORIES:RAS Lectures & Events
ATTACH;FMTTYPE=image/jpeg:https://royalasiaticsociety.org/wp-content/uploads/2025/11/6th-Levantine-Heritage-FoundationRoyal-Asiatic-Society-lecture.jpg
END:VEVENT
BEGIN:VEVENT
DTSTART;TZID=Europe/London:20260514T183000
DTEND;TZID=Europe/London:20260514T200000
DTSTAMP:20260422T003417
CREATED:20251111T165110Z
LAST-MODIFIED:20260303T112833Z
UID:24095-1778783400-1778788800@royalasiaticsociety.org
SUMMARY:(AGM + Japan Series Closing Lecture) Prof Simon Kaner - Towards 150 years of Japanese archaeology and its broader Asian connections
DESCRIPTION:
URL:https://royalasiaticsociety.org/event/agm-japan-series-closing-lecture-prof-simon-kaner-towards-150-years-of-japanese-archaeology-and-its-broader-asian-connections/
LOCATION:Royal Asiatic Society Lecture Theatre\, 14 Stephenson Way\, London\, NW1 2HD\, United Kingdom
CATEGORIES:RAS Lectures & Events
ATTACH;FMTTYPE=image/jpeg:https://royalasiaticsociety.org/wp-content/uploads/2021/02/japanese-prints2.jpg
END:VEVENT
BEGIN:VEVENT
DTSTART;TZID=Europe/London:20260521T183000
DTEND;TZID=Europe/London:20260521T200000
DTSTAMP:20260422T003417
CREATED:20251111T165240Z
LAST-MODIFIED:20260327T091632Z
UID:24816-1779388200-1779393600@royalasiaticsociety.org
SUMMARY:Jonathan Orr - Imperial Rule in India: Paternal Governance and Conquest under the Lawrences and Montgomery
DESCRIPTION:[vc_row][vc_column width=”5/6″][vc_column_text css=””] \nImperial Rule in India: Paternal Governance and Conquest under the Lawrences and Montgomery Book Launch\nAbout the Book\nThis book explores the remarkable careers of George\, Henry and John Lawrence and Robert Montgomery (Field Marshal Montgomery of Alamein’s grandfather) who served in the East India Company during the first half of the nineteenth century. From modest backgrounds in the north of Ireland\, all four men would assume leading roles in the colonial administration of India. After initial training in England and in Calcutta\, they served their apprenticeships in the Delhi Territory and in the North-Western Provinces (modern day Uttar Pradesh) as military officers (George and Henry) and Collectors (of revenue) and District Magistrates (John and Robert). Henry would later make the move from military to civilian employment when he became a land revenue surveyor. As this book reveals\, these years were incredibly important in the formation of their administrative style. Ruling large swathes of northern India in paternal fashion\, John and Robert became highly knowledgeable on local agrarian affairs. Likewise\, Henry’s role as a revenue surveyor gave him a worm’s eye view of village life that was far removed from the cloistered environment of the military cantonment. Such experiences would cultivate an ethos of respecting local culture and institutions while exercising a high standard of public service and personal devotion to duty. The book assesses the Lawrences and Montgomery’s efforts in the challenging fields of land revenue surveying and assessment\, as well as their campaigns against female infanticide\, thuggee and other forms of criminality. Beyond India\, the part played by George and Henry in the disastrous First Anglo-Afghan War is followed in detail\, while the latter’s time as British Resident at the Court of Nepal explores his passion for writing on important Anglo-Indian topics. This study will argue that the knowledge and skills developed by this talented quartet of Irishmen provided the crucial foundations for their later careers in the Punjab and beyond. \nAbout the Author\nJonathan Orr was educated at Foyle College\, Londonderry\, and Trinity College Dublin where he read modern history. Over the years\, he has travelled extensively in both India and Pakistan. After a career in data analytics\, working in both the UK and in India\, he moved into property development. More recently\, he has been able to devote time to his passion for Anglo-Indian history. His aim\, based on an in-depth examination of archival sources\, is to provide an accessible but absorbing reassessment of the Lawrences and Montgomery’s Indian careers for both the specialist and the general reader. He lives in south-east London with his wife Shruti and son Jude. \n  \nFree and open to all. In person and online via Zoom. \nTo attend online\, email emd@royalasiaticsociety.org for a link.[/vc_column_text][/vc_column][vc_column width=”1/6″][/vc_column][/vc_row]
URL:https://royalasiaticsociety.org/event/imperial-rule-in-india-paternal-governance-and-conquest-under-the-lawrences-and-montgomery/
LOCATION:Royal Asiatic Society Lecture Theatre\, 14 Stephenson Way\, London\, NW1 2HD\, United Kingdom
CATEGORIES:RAS Lectures & Events
ATTACH;FMTTYPE=image/jpeg:https://royalasiaticsociety.org/wp-content/uploads/2026/03/Screenshot-2026-03-25-111923.jpg
END:VEVENT
BEGIN:VEVENT
DTSTART;TZID=Europe/London:20260602T183000
DTEND;TZID=Europe/London:20260602T203000
DTSTAMP:20260422T003417
CREATED:20251111T165740Z
LAST-MODIFIED:20260326T142914Z
UID:24099-1780425000-1780432200@royalasiaticsociety.org
SUMMARY:Daniel Lowe - Title TBA
DESCRIPTION:
URL:https://royalasiaticsociety.org/event/daniel-lowe-title-tba/
LOCATION:Royal Asiatic Society Lecture Theatre\, 14 Stephenson Way\, London\, NW1 2HD\, United Kingdom
CATEGORIES:RAS Lectures & Events
ATTACH;FMTTYPE=image/jpeg:https://royalasiaticsociety.org/wp-content/uploads/2026/03/event-placeholder.jpg
END:VEVENT
BEGIN:VEVENT
DTSTART;TZID=Europe/London:20260609T183000
DTEND;TZID=Europe/London:20260609T200000
DTSTAMP:20260422T003417
CREATED:20251111T170025Z
LAST-MODIFIED:20251111T170025Z
UID:24101-1781029800-1781035200@royalasiaticsociety.org
SUMMARY:Dr Garima Jaju - Title TBA
DESCRIPTION:
URL:https://royalasiaticsociety.org/event/dr-garima-jaju-title-tba/
LOCATION:Royal Asiatic Society Lecture Theatre\, 14 Stephenson Way\, London\, NW1 2HD\, United Kingdom
CATEGORIES:RAS Lectures & Events
ATTACH;FMTTYPE=image/jpeg:https://royalasiaticsociety.org/wp-content/uploads/2025/10/014.001-5.jpg
END:VEVENT
BEGIN:VEVENT
DTSTART;TZID=Europe/London:20260611T183000
DTEND;TZID=Europe/London:20260611T200000
DTSTAMP:20260422T003417
CREATED:20251111T170237Z
LAST-MODIFIED:20251111T170237Z
UID:24103-1781202600-1781208000@royalasiaticsociety.org
SUMMARY:Dr Megnaa Mehtta - Title TBA
DESCRIPTION:
URL:https://royalasiaticsociety.org/event/dr-megnaa-mehtta-title-tba/
LOCATION:Royal Asiatic Society Lecture Theatre\, 14 Stephenson Way\, London\, NW1 2HD\, United Kingdom
CATEGORIES:RAS Lectures & Events
ATTACH;FMTTYPE=image/jpeg:https://royalasiaticsociety.org/wp-content/uploads/2020/11/a2-Collection.jpg
END:VEVENT
END:VCALENDAR