BEGIN:VCALENDAR
VERSION:2.0
PRODID:-//Royal Asiatic Society - ECPv6.15.20//NONSGML v1.0//EN
CALSCALE:GREGORIAN
METHOD:PUBLISH
X-WR-CALNAME:Royal Asiatic Society
X-ORIGINAL-URL:https://royalasiaticsociety.org
X-WR-CALDESC:Events for Royal Asiatic Society
REFRESH-INTERVAL;VALUE=DURATION:PT1H
X-Robots-Tag:noindex
X-PUBLISHED-TTL:PT1H
BEGIN:VTIMEZONE
TZID:Europe/London
BEGIN:DAYLIGHT
TZOFFSETFROM:+0000
TZOFFSETTO:+0100
TZNAME:BST
DTSTART:20220327T010000
END:DAYLIGHT
BEGIN:STANDARD
TZOFFSETFROM:+0100
TZOFFSETTO:+0000
TZNAME:GMT
DTSTART:20221030T010000
END:STANDARD
BEGIN:DAYLIGHT
TZOFFSETFROM:+0000
TZOFFSETTO:+0100
TZNAME:BST
DTSTART:20230326T010000
END:DAYLIGHT
BEGIN:STANDARD
TZOFFSETFROM:+0100
TZOFFSETTO:+0000
TZNAME:GMT
DTSTART:20231029T010000
END:STANDARD
BEGIN:DAYLIGHT
TZOFFSETFROM:+0000
TZOFFSETTO:+0100
TZNAME:BST
DTSTART:20240331T010000
END:DAYLIGHT
BEGIN:STANDARD
TZOFFSETFROM:+0100
TZOFFSETTO:+0000
TZNAME:GMT
DTSTART:20241027T010000
END:STANDARD
BEGIN:DAYLIGHT
TZOFFSETFROM:+0000
TZOFFSETTO:+0100
TZNAME:BST
DTSTART:20250330T010000
END:DAYLIGHT
BEGIN:STANDARD
TZOFFSETFROM:+0100
TZOFFSETTO:+0000
TZNAME:GMT
DTSTART:20251026T010000
END:STANDARD
END:VTIMEZONE
BEGIN:VEVENT
DTSTART;TZID=Europe/London:20240425T163000
DTEND;TZID=Europe/London:20240425T173000
DTSTAMP:20260422T020945
CREATED:20240311T153514Z
LAST-MODIFIED:20240311T153514Z
UID:20175-1714062600-1714066200@royalasiaticsociety.org
SUMMARY:Council
DESCRIPTION:
URL:https://royalasiaticsociety.org/event/council/
END:VEVENT
BEGIN:VEVENT
DTSTART;TZID=Europe/London:20240425T153000
DTEND;TZID=Europe/London:20240425T163000
DTSTAMP:20260422T020946
CREATED:20240311T153409Z
LAST-MODIFIED:20240311T153446Z
UID:20172-1714059000-1714062600@royalasiaticsociety.org
SUMMARY:Publications Committee
DESCRIPTION:
URL:https://royalasiaticsociety.org/event/library-committee-6/
END:VEVENT
BEGIN:VEVENT
DTSTART;TZID=Europe/London:20240425T143000
DTEND;TZID=Europe/London:20240425T153000
DTSTAMP:20260422T020946
CREATED:20240311T153843Z
LAST-MODIFIED:20240311T153843Z
UID:20183-1714055400-1714059000@royalasiaticsociety.org
SUMMARY:Library Committee
DESCRIPTION:
URL:https://royalasiaticsociety.org/event/library-committee-7/
END:VEVENT
BEGIN:VEVENT
DTSTART;TZID=Europe/London:20240418T183000
DTEND;TZID=Europe/London:20240418T203000
DTSTAMP:20260422T020946
CREATED:20240402T111651Z
LAST-MODIFIED:20240402T111651Z
UID:20244-1713465000-1713472200@royalasiaticsociety.org
SUMMARY:Look at the Coins! Papers in Honour of Joe Cribb on his 75th Birthday
DESCRIPTION:
URL:https://royalasiaticsociety.org/event/look-at-the-coins-papers-in-honour-of-joe-cribb-on-his-75th-birthday/
LOCATION:Royal Asiatic Society Lecture Theatre\, 14 Stephenson Way\, London\, NW1 2HD\, United Kingdom
CATEGORIES:Book Launch
END:VEVENT
BEGIN:VEVENT
DTSTART;TZID=Europe/London:20240411T183000
DTEND;TZID=Europe/London:20240411T203000
DTSTAMP:20260422T020946
CREATED:20240115T103438Z
LAST-MODIFIED:20240115T103438Z
UID:19926-1712860200-1712867400@royalasiaticsociety.org
SUMMARY:Dr James White: Community Formation and the Edges of Empire: Panegyric Poetry in Sanʿaʾ and Isfahan\, 1670-1690.
DESCRIPTION:Dr James White is Departmental Lecturer of Persian Studies at Oxford University. His research focuses on multilingualism and the social uses of poetry in the Middle East and South Asia during the late medieval and early modern periods. \n  \nTalk Abstract: \nDuring the latter half of the seventeenth century\, the question of who wielded – and ought to wield – political authority was hotly debated in polities across the western Indian Ocean. Smaller states\, and even exiled scions of large empires\, had their own visions of kingship which called the territorial ambitions of the Ottomans\, Safavids and Mughals into question. In this talk\, I explore political thought in early modern Yemen and Iran\, examining how the polythematic ode (qaṣīda) was used to mould the convictions of audiences. I will compare the writing of al-Ṣārim al-Hindī (d. 1689-90)\, a poet at the court of the Qāsimī Imamate in northern Yemen\, with the verse of Najīb Kāshānī (d. 1711-12)\, who wrote panegyrics to the Mughal prince Akbar during the latter’s exile in Isfahan. I aim to show how the circulation of poetry and transregional networks affected political discourse in communities that stood on the edges of empire.
URL:https://royalasiaticsociety.org/event/dr-james-white-community-formation-and-the-edges-of-empire-panegyric-poetry-in-san%ca%bfa%ca%be-and-isfahan-1670-1690/
LOCATION:Royal Asiatic Society Lecture Theatre\, 14 Stephenson Way\, London\, NW1 2HD\, United Kingdom
CATEGORIES:RAS Lecture Series 2023 - 24
END:VEVENT
BEGIN:VEVENT
DTSTART;TZID=Europe/London:20240411T163000
DTEND;TZID=Europe/London:20240411T173000
DTSTAMP:20260422T020946
CREATED:20240311T153339Z
LAST-MODIFIED:20240311T153339Z
UID:20170-1712853000-1712856600@royalasiaticsociety.org
SUMMARY:Monograph Editorial Board
DESCRIPTION:
URL:https://royalasiaticsociety.org/event/monograph-editorial-board/
END:VEVENT
BEGIN:VEVENT
DTSTART;TZID=Europe/London:20240411T153000
DTEND;TZID=Europe/London:20240411T163000
DTSTAMP:20260422T020946
CREATED:20240311T153300Z
LAST-MODIFIED:20240311T153300Z
UID:20168-1712849400-1712853000@royalasiaticsociety.org
SUMMARY:JRAS Editorial Board
DESCRIPTION:
URL:https://royalasiaticsociety.org/event/jras-editorial-board/
END:VEVENT
BEGIN:VEVENT
DTSTART;TZID=Europe/London:20240321T183000
DTEND;TZID=Europe/London:20240321T203000
DTSTAMP:20260422T020946
CREATED:20231205T092344Z
LAST-MODIFIED:20240221T120603Z
UID:19807-1711045800-1711053000@royalasiaticsociety.org
SUMMARY:Dr David W. Kim - A South Asian Neutral Power: India of the United Nations on the Korean Peninsula (1947-1955)
DESCRIPTION: 
URL:https://royalasiaticsociety.org/event/david-kim-contemporary-buddhist-movements-in-korea-conflict-new-leadership-and-diversity/
LOCATION:Royal Asiatic Society Lecture Theatre\, 14 Stephenson Way\, London\, NW1 2HD\, United Kingdom
CATEGORIES:RAS Lecture Series 2023 - 24
END:VEVENT
BEGIN:VEVENT
DTSTART;TZID=Europe/London:20240321T163000
DTEND;TZID=Europe/London:20240321T173000
DTSTAMP:20260422T020946
CREATED:20240311T153220Z
LAST-MODIFIED:20240311T153220Z
UID:20165-1711038600-1711042200@royalasiaticsociety.org
SUMMARY:Events and House Committee
DESCRIPTION:
URL:https://royalasiaticsociety.org/event/events-and-house-committee-2/
END:VEVENT
BEGIN:VEVENT
DTSTART;TZID=Europe/London:20240314T183000
DTEND;TZID=Europe/London:20240314T203000
DTSTAMP:20260422T020946
CREATED:20240122T093214Z
LAST-MODIFIED:20240307T154147Z
UID:19948-1710441000-1710448200@royalasiaticsociety.org
SUMMARY:Juan de Lara -  Qaryat al Fāw - An Emporium Between the Classical and Islamic World
DESCRIPTION:
URL:https://royalasiaticsociety.org/event/juan-de-lara-qaryat-al-faw-an-emporium-between-the-classical-and-islamic-world/
END:VEVENT
BEGIN:VEVENT
DTSTART;TZID=Europe/London:20240314T163000
DTEND;TZID=Europe/London:20240314T173000
DTSTAMP:20260422T020946
CREATED:20240311T153110Z
LAST-MODIFIED:20240311T153110Z
UID:20163-1710433800-1710437400@royalasiaticsociety.org
SUMMARY:Finance Committee
DESCRIPTION:
URL:https://royalasiaticsociety.org/event/finance-committee/
END:VEVENT
BEGIN:VEVENT
DTSTART;TZID=Europe/London:20240312T183000
DTEND;TZID=Europe/London:20240312T203000
DTSTAMP:20260422T020946
CREATED:20240123T095623Z
LAST-MODIFIED:20240123T095623Z
UID:19960-1710268200-1710275400@royalasiaticsociety.org
SUMMARY:Ann Wilks (CBE) - Britain’s Man on the Spot in Iraq and Afghanistan
DESCRIPTION:  \n\n\nThe newly discovered papers and colourfully-written letters of Anglo-Irish Sir Henry Dobbs\, which form the backbone of this book\, reveal his importance in the development of the modern Middle East. \nAn influential civil servant and Britain’s longest serving High Commissioner in Iraq at a time when the British empire was facing increasing challenges to its once dominant position\, he describes the difficulties of governing first in India then in the formerly Ottoman Mesopotamia during WW1. Here\, Dobbs had to devise administrative systems while often at odds with his superior\, Sir Percy Cox. In the discussions that followed the Third Afghan War\, Dobbs manoeuvred between the different views in London and Delhi with great dexterity to negotiate alone with the Amir of Afghanistan the enduring 1921 Anglo-Afghan treaty. \nHaving accepted from the League of Nations the responsibility for taking the newly-created Iraq to sustainable independence in the aftermath of WW1\, the cash-strapped British government came under great domestic pressure to abandon it. Key to British support continuing was Iraqi acceptance of the controversial 1922 treaty with Britain. This Dobbs achieved by disregarding the unhelpful approach recommended by London and\, risking his career\, he pressed on with his own wholly unauthorised tactics. In other initiatives\, Dobbs ensured that Mosul province remained within Iraq. Dobbs consistently pressed for Iraq’s early independence – granted in 1932\, the first territory in the former Ottoman Empire to gain it. \nAn early advocate of self-determination Dobbs was frequently at odds with the more traditional imperial approach of his superiors. He always endeavoured to balance the aspirations and needs of overseas communities for whom he was responsible with the interests of Britain which he represented.
URL:https://royalasiaticsociety.org/event/ann-wilks-cbe-britains-man-on-the-spot-in-iraq-and-afghanistan/
LOCATION:Royal Asiatic Society Lecture Theatre\, 14 Stephenson Way\, London\, NW1 2HD\, United Kingdom
END:VEVENT
BEGIN:VEVENT
DTSTART;TZID=Europe/London:20240311T080000
DTEND;TZID=Europe/London:20240311T170000
DTSTAMP:20260422T020946
CREATED:20240311T153707Z
LAST-MODIFIED:20240311T153707Z
UID:20181-1710144000-1710176400@royalasiaticsociety.org
SUMMARY:Council
DESCRIPTION:
URL:https://royalasiaticsociety.org/event/council-2/
END:VEVENT
BEGIN:VEVENT
DTSTART;TZID=Europe/London:20240307T183000
DTEND;TZID=Europe/London:20240307T203000
DTSTAMP:20260422T020946
CREATED:20240209T111645Z
LAST-MODIFIED:20240209T111645Z
UID:20034-1709836200-1709843400@royalasiaticsociety.org
SUMMARY:Robin Masefield - The World Administered by Irishmen: The Life and Times of Robert Hart and Irish Contemporaries in East Asia
DESCRIPTION:Robin Masefield’s latest book\, published by Queen’s University Belfast\, is entitled The World Administered by Irishmen: The Life and Times of Robert Hart and Irish Contemporaries in East Asia. \nWhile\, the initial focus is on the Chinese Maritime Customs Service\, and the Ulsterman Sir Robert Hart who led it for 45 years\, the book brings together a treasure trove of other Irish people in East Asia – men from Ulster in the Customs Service; a nurse from Roscommon; a doctor from Cork; a diplomat from Meath; Hong Kong governors from Dublin; and many more. Using first-hand accounts where possible\, the book vividly brings to life the special contribution that Irish men and women made to developing relations with China\, Japan and Korea in the 19th century. It is illustrated with three hundred images. \nRobin Masefield worked in Hong Kong in the 1980s\, and this is his third book with an Asian focus. He was awarded the CBE in 2003. \nSince retiring in Belfast in 2010\, he has written a number of books\, including three on aspects of local history in North Down. \nHe and his wife\, Rosemary\, moved to Surrey in autumn 2023. He is a Fellow of the Royal Asiatic Society. \nThe book can be obtained online at www.blackstaffpress.com\, or email specialcollections@qub.ac.uk.
URL:https://royalasiaticsociety.org/event/robin-masefield-the-world-administered-by-irishmen-the-life-and-times-of-robert-hart-and-irish-contemporaries-in-east-asia/
LOCATION:Royal Asiatic Society Lecture Theatre\, 14 Stephenson Way\, London\, NW1 2HD\, United Kingdom
CATEGORIES:Book Launch
END:VEVENT
BEGIN:VEVENT
DTSTART;TZID=Europe/London:20240305T183000
DTEND;TZID=Europe/London:20240305T203000
DTSTAMP:20260422T020946
CREATED:20240122T124336Z
LAST-MODIFIED:20240122T124402Z
UID:19955-1709663400-1709670600@royalasiaticsociety.org
SUMMARY:Professor Dame Jessica Rawson - Gold\, Horses and the Rise of the Silk Roads
DESCRIPTION:
URL:https://royalasiaticsociety.org/event/dame-jessica-rawson-gold-horses-and-the-rise-of-the-silk-roads/
LOCATION:Royal Asiatic Society Lecture Theatre\, 14 Stephenson Way\, London\, NW1 2HD\, United Kingdom
CATEGORIES:RAS Lecture Series 2023 - 24
END:VEVENT
BEGIN:VEVENT
DTSTART;TZID=Europe/London:20240222T183000
DTEND;TZID=Europe/London:20240222T203000
DTSTAMP:20260422T020946
CREATED:20231205T091630Z
LAST-MODIFIED:20231205T091630Z
UID:19803-1708626600-1708633800@royalasiaticsociety.org
SUMMARY:Jennifer Howes: The Art of a Corporation: The East India Company as Patron and Collector
DESCRIPTION:
URL:https://royalasiaticsociety.org/event/jennifer-howes-the-art-of-a-corporation-the-east-india-company-as-patron-and-collector/
LOCATION:Royal Asiatic Society Lecture Theatre\, 14 Stephenson Way\, London\, NW1 2HD\, United Kingdom
CATEGORIES:RAS Lecture Series 2023 - 24
END:VEVENT
BEGIN:VEVENT
DTSTART;TZID=Europe/London:20240220T183000
DTEND;TZID=Europe/London:20240220T203000
DTSTAMP:20260422T020946
CREATED:20240207T114401Z
LAST-MODIFIED:20240207T114401Z
UID:20022-1708453800-1708461000@royalasiaticsociety.org
SUMMARY:Dr Neil Schmid (Dunhuang Academy) King of Kings: Vestiges of Sasanian Sacral Kingship in 10th Century Dunhuang
DESCRIPTION:  \nDating from the fifth to the fourteenth century\, the Mogao Caves near the oasis of Dunhuang in northwestern China contain a wealth of information charting the flows and interactions of diverse cultures across Eurasia. Donor portraits in particular furnish a remarkable range of data on the ethnicity\, interregional relations\, politics\, and the social and religious status of the caves’ patrons. Of the thousands of donor portraits painted on the walls of the Mogao Caves\, one in particular stands out for its size\, meticulously painted details\, and unique iconography\, that in Mogao Cave 98 of Viśa‘ Saṃbhava (Li Shengtian 李聖天)\, the King of Khotan (r. 912–c.966) and ally of the ruling élites of Dunhuang.  Scholars typically consider his royal regalia to be Chinese in origin and style\, and the king the representative of a Buddhist kingdom. However\, a detailed analysis of the portrait demonstrates neither is the case. Instead\, his garb and adjacent symbols reveal a richly coherent network of iconography and accoutrements Iranian in origin and Sasanian at heart\, foregrounding core concepts of divine kingship as predicated on xwarrah\, ‘divine glory.’ Drawing on a wide array of visual and material resources such as sculpture\, metalware\, and numismatic evidence from Iran and Central Asia\, this talk presents for the first time a thoroughly revised analysis of Viśa‘ Saṃbhava’s portrait. I demonstrate how the royal costume and associate ornamental motifs belong to a shared visual culture of imperial legitimacy grounded in symbols of investiture that span a vast geographical and temporal range\, here still very much authoritative during the 10th century in a largely Chinese context. Given our lack of knowledge about non-Buddhist aspects of Khotan\, this portrait and its sacral imagery are invaluable for reevaluating fundamental notions of sovereignty in the Kingdom of Khotan. \n  \nDr. Neil Schmid is Research Professor at the Dunhuang Academy in the Centre for Silk Road and Dunhuang Comparative Research. His research centers on Dunhuang and the Silk Road covering variety of topics: the role of Buddhist literature in ritual and art\, medieval economic development\, esoteric Buddhism\, and transcultural flow of religious objects and ideas across Eurasia. \n  \nTo join over zoom please email Matty Bradley at mb@royalasiaticsociety.org \n 
URL:https://royalasiaticsociety.org/event/dr-neil-schmid-dunhuang-academy-king-of-kings-vestiges-of-sasanian-sacral-kingship-in-10th-century-dunhuang/
LOCATION:Royal Asiatic Society Lecture Theatre\, 14 Stephenson Way\, London\, NW1 2HD\, United Kingdom
END:VEVENT
BEGIN:VEVENT
DTSTART;TZID=Europe/London:20240208T183000
DTEND;TZID=Europe/London:20240208T203000
DTSTAMP:20260422T020946
CREATED:20231205T091519Z
LAST-MODIFIED:20240201T114549Z
UID:19801-1707417000-1707424200@royalasiaticsociety.org
SUMMARY:Nandini Das: Courting India - England\, Mughal India and the Origins of Empire
DESCRIPTION:  \nCourting India: England\, Mughal India and the Origins of Empire: Nandini Das: Bloomsbury Publishing \nWINNER OF THE BRITISH ACADEMY BOOK PRIZE\nA SPECTATOR\, WATERSTONES\, BBC HISTORY MAGAZINE\, PROSPECT AND HISTORY TODAY BOOK OF THE YEAR \nA profound and ground-breaking new history of one of the most important encounters in the history of colonialism: the British arrival in India in the early seventeenth century. \n‘A triumph of writing and scholarship. It is hard to imagine anyone ever bettering Das’s account of this part of the story‘ – William Dalrymple\, Financial Times \n‘A fascinating glimpse of the origins of the British Empire . . . drawn in dazzling technicolour‘ – Spectator \n‘Beautifully written and masterfully researched\, this has the makings of a classic’ – Peter Frankopan \nLONGLISTED FOR THE CUNDILL HISTORY PRIZE\nSHORTLISTED FOR THE HWA CROWN AWARDS \nWhen Thomas Roe arrived in India in 1616 as James I’s first ambassador to the Mughal Empire\, the English barely had a toehold in the subcontinent. Their understanding of South Asian trade and India was sketchy at best\, and\, to the Mughals\, they were minor players on a very large stage. Roe was representing a kingdom that was beset by financial woes and deeply conflicted about its identity as a unified ‘Great Britain’ under the Stuart monarchy. Meanwhile\, the court he entered in India was wealthy and cultured\, its dominion widely considered to be one of the greatest and richest empires of the world. \nIn Nandini Das’s fascinating history of Roe’s four years in India\, she offers an insider’s view of a Britain in the making\, a country whose imperial seeds were just being sown. It is a story of palace intrigue and scandal\, lotteries and wagers that unfolds as global trade begins to stretch from Russia to Virginia\, from West Africa to the Spice Islands of Indonesia. \nA major debut that explores the art\, literature\, sights and sounds of Jacobean London and Imperial India\, Courting India reveals Thomas Roe’s time in the Mughal Empire to be a turning point in history – and offers a rich and radical challenge to our understanding of Britain and its early empire.
URL:https://royalasiaticsociety.org/event/nandini-das-courting-india/
LOCATION:Royal Asiatic Society Lecture Theatre\, 14 Stephenson Way\, London\, NW1 2HD\, United Kingdom
CATEGORIES:RAS Lecture Series 2023 - 24
END:VEVENT
BEGIN:VEVENT
DTSTART;TZID=Europe/London:20240125T183000
DTEND;TZID=Europe/London:20240125T203000
DTSTAMP:20260422T020946
CREATED:20231205T091355Z
LAST-MODIFIED:20231205T091355Z
UID:19799-1706207400-1706214600@royalasiaticsociety.org
SUMMARY:Dr Giles Tillotson: Ram Raz and William Hodges: Theorizing Indian Architecture
DESCRIPTION:
URL:https://royalasiaticsociety.org/event/dr-giles-tillotson-ram-raz-and-william-hodges-theorizing-indian-architecture/
LOCATION:Royal Asiatic Society Lecture Theatre\, 14 Stephenson Way\, London\, NW1 2HD\, United Kingdom
CATEGORIES:RAS Lecture Series 2023 - 24
END:VEVENT
BEGIN:VEVENT
DTSTART;TZID=Europe/London:20240118T183000
DTEND;TZID=Europe/London:20240118T203000
DTSTAMP:20260422T020946
CREATED:20231205T091232Z
LAST-MODIFIED:20250908T143253Z
UID:19797-1705602600-1705609800@royalasiaticsociety.org
SUMMARY:Prof Francis Robinson Festschrift Launch
DESCRIPTION:
URL:https://royalasiaticsociety.org/event/prof-francis-robinson-festschrift-launch/
LOCATION:Royal Asiatic Society Lecture Theatre\, 14 Stephenson Way\, London\, NW1 2HD\, United Kingdom
CATEGORIES:RAS Lecture Series 2023 - 24,Special Event
ATTACH;FMTTYPE=image/jpeg:https://royalasiaticsociety.org/wp-content/uploads/2021/10/Professor-Francis-Robinson-e1633688287680.jpg
END:VEVENT
BEGIN:VEVENT
DTSTART;TZID=Europe/London:20240111T183000
DTEND;TZID=Europe/London:20240111T203000
DTSTAMP:20260422T020946
CREATED:20231205T091107Z
LAST-MODIFIED:20240104T145847Z
UID:19795-1704997800-1705005000@royalasiaticsociety.org
SUMMARY:Kelsey Granger (winner of the Staunton Prize)
DESCRIPTION: 
URL:https://royalasiaticsociety.org/event/kelsey-granger-winner-of-the-staunton-prize/
LOCATION:Royal Asiatic Society Lecture Theatre\, 14 Stephenson Way\, London\, NW1 2HD\, United Kingdom
CATEGORIES:RAS Lecture Series 2023 - 24
END:VEVENT
BEGIN:VEVENT
DTSTART;TZID=Europe/London:20231212T183000
DTEND;TZID=Europe/London:20231212T203000
DTSTAMP:20260422T020946
CREATED:20230906T154203Z
LAST-MODIFIED:20231205T090828Z
UID:19413-1702405800-1702413000@royalasiaticsociety.org
SUMMARY:Dr Paul Bevan: Fraternal Revenge – the Legends of Ma Suzhen and Ma Yongzhen
DESCRIPTION:Free and open to all at 14 Stephenson Way\, NW1 2HD \nTo join online email Matty: mb@royalasiaticsociety.org
URL:https://royalasiaticsociety.org/event/dr-paul-bevan-title-tba/
LOCATION:Royal Asiatic Society Lecture Theatre\, 14 Stephenson Way\, London\, NW1 2HD\, United Kingdom
END:VEVENT
BEGIN:VEVENT
DTSTART;TZID=Europe/London:20231207T183000
DTEND;TZID=Europe/London:20231207T203000
DTSTAMP:20260422T020946
CREATED:20230906T154033Z
LAST-MODIFIED:20231128T144713Z
UID:19411-1701973800-1701981000@royalasiaticsociety.org
SUMMARY:Dr James White *Postponed*
DESCRIPTION:This event has been postponed to early 2024. We will update this page once a date has been decided.
URL:https://royalasiaticsociety.org/event/dr-james-white-title-tba/
LOCATION:Royal Asiatic Society Lecture Theatre\, 14 Stephenson Way\, London\, NW1 2HD\, United Kingdom
CATEGORIES:RAS Lecture Series 2023 - 24
END:VEVENT
BEGIN:VEVENT
DTSTART;TZID=Europe/London:20231206T183000
DTEND;TZID=Europe/London:20231206T203000
DTSTAMP:20260422T020946
CREATED:20231129T103259Z
LAST-MODIFIED:20250908T143529Z
UID:19770-1701887400-1701894600@royalasiaticsociety.org
SUMMARY:Launch Of The Reissue Of Tod's Annals And Antiquities
DESCRIPTION:
URL:https://royalasiaticsociety.org/event/launch-of-the-reissue-of-tods-annals-and-antiquities/
LOCATION:Brunei Gallery\, SOAS\, Thornhaugh Street\, Russell Square\, London\, England\, WC1H 0XG\, United Kingdom
CATEGORIES:Special Event
ATTACH;FMTTYPE=image/jpeg:https://royalasiaticsociety.org/wp-content/uploads/2023/12/IMG_20231206_184413.jpg
END:VEVENT
BEGIN:VEVENT
DTSTART;TZID=Europe/London:20231201T190000
DTEND;TZID=Europe/London:20231201T210000
DTSTAMP:20260422T020946
CREATED:20231026T112932Z
LAST-MODIFIED:20231116T121929Z
UID:19678-1701457200-1701464400@royalasiaticsociety.org
SUMMARY:Jessica Harrison-Hall: China's Hidden Century (at SOAS Djam Lecture Theatre\, joint event with The Meridian Society)
DESCRIPTION:Date:   Friday 1st December\, 2023 \nTime:   19:00-21:00 \nVenue: Djam Lecture Theatre\nSOAS Main Building\n10 Thornhaugh Street\, Russell Square\nLondon WC1H 0XG \n  \nThe Meridian Society is delighted to present the above event in association with the Royal Asiatic Society\, the Society for Anglo-Chinese Understanding and the SOAS Chinese Culture Society. \n  \nVisitors to the exhibition CHINA’S HIDDEN CENTURY at the British Museum over the past months will no doubt have been astonished by the cultural creativity that emerged during the last hundred years of the Qing Dynasty despite the social\, economic and political upheavals of the time. We are therefore very pleased to invite Jessica Harrison-Hall\, the museum’s Head of China Section and the exhibition’s lead curator\, to give a retrospective view of the exhibition. \n  \nFollowing the talk\, Ms Harrison-Hall will be joined by Dr Lars Laamann\, Senior Lecturer in the History of China at SOAS\, and Dr Hwee-San Tan\, Research Associate in Ethnomusicology at SOAS\, for a panel discussion on this period of history. \n  \nThe talk will be topped and tailed by performances of Qing court music performed by the SOAS Sizhu Ensemble. \n  \nThe event is free\, but donations are welcome and all proceeds will go to the SOAS Sizhu Ensemble to fund their trip to Portugal next year. \n  \nPlease RSVP to themeridiansociety@gmail.com if you are planning to attend.
URL:https://royalasiaticsociety.org/event/jessica-harrison-hall-chinas-hidden-century-joint-event-with-the-meridian-society/
LOCATION:Djam Lecture Theatre\, SOAS
CATEGORIES:Special Event
END:VEVENT
BEGIN:VEVENT
DTSTART;TZID=Europe/London:20231128T183000
DTEND;TZID=Europe/London:20231128T203000
DTSTAMP:20260422T020946
CREATED:20230906T153421Z
LAST-MODIFIED:20231020T094211Z
UID:19402-1701196200-1701203400@royalasiaticsociety.org
SUMMARY:(Joint event with LHF) Stephen Boys Smith - Through Consular Eyes: Thomas Sandwith\, British Levant Consul 1855-1891
DESCRIPTION:
URL:https://royalasiaticsociety.org/event/joint-event-with-lhf-stephen-boys-smith-through-consular-eyes-thomas-sandwith-british-levant-consul-1855-1891/
LOCATION:Royal Asiatic Society Lecture Theatre\, 14 Stephenson Way\, London\, NW1 2HD\, United Kingdom
CATEGORIES:RAS Lecture Series 2023 - 24
END:VEVENT
BEGIN:VEVENT
DTSTART;TZID=Europe/London:20231122T183000
DTEND;TZID=Europe/London:20231122T203000
DTSTAMP:20260422T020946
CREATED:20230906T153923Z
LAST-MODIFIED:20231102T145454Z
UID:19409-1700677800-1700685000@royalasiaticsociety.org
SUMMARY:Prof François Déroche - An orientalist Entente cordiale: The Royal Asiatic Society and The Société Asiatique in their early years.
DESCRIPTION:
URL:https://royalasiaticsociety.org/event/prof-nuria-de-castilla-title-tba/
LOCATION:Royal Asiatic Society Lecture Theatre\, 14 Stephenson Way\, London\, NW1 2HD\, United Kingdom
CATEGORIES:RAS Lecture Series 2023 - 24
END:VEVENT
BEGIN:VEVENT
DTSTART;TZID=Europe/London:20231116T183000
DTEND;TZID=Europe/London:20231116T203000
DTSTAMP:20260422T020946
CREATED:20230906T153642Z
LAST-MODIFIED:20231101T102726Z
UID:19405-1700159400-1700166600@royalasiaticsociety.org
SUMMARY:Dr Rosie Llewellyn-Jones - 'Empire Building: the Construction of British India 1690-1860
DESCRIPTION:
URL:https://royalasiaticsociety.org/event/dr-rosie-llewellyn-jones-empire-building-the-construction-of-british-india-1690-1860/
LOCATION:Royal Asiatic Society Lecture Theatre\, 14 Stephenson Way\, London\, NW1 2HD\, United Kingdom
CATEGORIES:RAS Lecture Series 2023 - 24
END:VEVENT
BEGIN:VEVENT
DTSTART;TZID=Europe/London:20231109T183000
DTEND;TZID=Europe/London:20231109T203000
DTSTAMP:20260422T020946
CREATED:20230906T153807Z
LAST-MODIFIED:20231102T145144Z
UID:19407-1699554600-1699561800@royalasiaticsociety.org
SUMMARY:Dr Richard Williams - The Scattered Court: Hindustani Music in Colonial Bengal
DESCRIPTION:
URL:https://royalasiaticsociety.org/event/dr-richard-williams-title-tba/
LOCATION:Royal Asiatic Society Lecture Theatre\, 14 Stephenson Way\, London\, NW1 2HD\, United Kingdom
CATEGORIES:RAS Lecture Series 2023 - 24
END:VEVENT
BEGIN:VEVENT
DTSTART;TZID=Europe/London:20231025T180000
DTEND;TZID=Europe/London:20231025T200000
DTSTAMP:20260422T020946
CREATED:20230928T113653Z
LAST-MODIFIED:20230928T113744Z
UID:19587-1698256800-1698264000@royalasiaticsociety.org
SUMMARY:(Book launch) Prof Chris Fuller (LSE) - Anthropologist and Imperialist H. H. Risley and British India\, 1873-1911
DESCRIPTION:
URL:https://royalasiaticsociety.org/event/book-launch-prof-christopher-fuller-lse-anthropologist-and-imperialist-h-h-risley-and-british-india-1873-1911/
LOCATION:Royal Asiatic Society Lecture Theatre\, 14 Stephenson Way\, London\, NW1 2HD\, United Kingdom
CATEGORIES:Book Launch
END:VEVENT
END:VCALENDAR