BEGIN:VCALENDAR
VERSION:2.0
PRODID:-//Royal Asiatic Society - ECPv6.15.20//NONSGML v1.0//EN
CALSCALE:GREGORIAN
METHOD:PUBLISH
X-WR-CALNAME:Royal Asiatic Society
X-ORIGINAL-URL:https://royalasiaticsociety.org
X-WR-CALDESC:Events for Royal Asiatic Society
REFRESH-INTERVAL;VALUE=DURATION:PT1H
X-Robots-Tag:noindex
X-PUBLISHED-TTL:PT1H
BEGIN:VTIMEZONE
TZID:Europe/London
BEGIN:DAYLIGHT
TZOFFSETFROM:+0000
TZOFFSETTO:+0100
TZNAME:BST
DTSTART:20180325T010000
END:DAYLIGHT
BEGIN:STANDARD
TZOFFSETFROM:+0100
TZOFFSETTO:+0000
TZNAME:GMT
DTSTART:20181028T010000
END:STANDARD
BEGIN:DAYLIGHT
TZOFFSETFROM:+0000
TZOFFSETTO:+0100
TZNAME:BST
DTSTART:20190331T010000
END:DAYLIGHT
BEGIN:STANDARD
TZOFFSETFROM:+0100
TZOFFSETTO:+0000
TZNAME:GMT
DTSTART:20191027T010000
END:STANDARD
BEGIN:DAYLIGHT
TZOFFSETFROM:+0000
TZOFFSETTO:+0100
TZNAME:BST
DTSTART:20200329T010000
END:DAYLIGHT
BEGIN:STANDARD
TZOFFSETFROM:+0100
TZOFFSETTO:+0000
TZNAME:GMT
DTSTART:20201025T010000
END:STANDARD
BEGIN:DAYLIGHT
TZOFFSETFROM:+0000
TZOFFSETTO:+0100
TZNAME:BST
DTSTART:20210328T010000
END:DAYLIGHT
BEGIN:STANDARD
TZOFFSETFROM:+0100
TZOFFSETTO:+0000
TZNAME:GMT
DTSTART:20211031T010000
END:STANDARD
BEGIN:DAYLIGHT
TZOFFSETFROM:+0000
TZOFFSETTO:+0100
TZNAME:BST
DTSTART:20220327T010000
END:DAYLIGHT
BEGIN:STANDARD
TZOFFSETFROM:+0100
TZOFFSETTO:+0000
TZNAME:GMT
DTSTART:20221030T010000
END:STANDARD
BEGIN:DAYLIGHT
TZOFFSETFROM:+0000
TZOFFSETTO:+0100
TZNAME:BST
DTSTART:20230326T010000
END:DAYLIGHT
BEGIN:STANDARD
TZOFFSETFROM:+0100
TZOFFSETTO:+0000
TZNAME:GMT
DTSTART:20231029T010000
END:STANDARD
BEGIN:DAYLIGHT
TZOFFSETFROM:+0000
TZOFFSETTO:+0100
TZNAME:BST
DTSTART:20240331T010000
END:DAYLIGHT
BEGIN:STANDARD
TZOFFSETFROM:+0100
TZOFFSETTO:+0000
TZNAME:GMT
DTSTART:20241027T010000
END:STANDARD
BEGIN:DAYLIGHT
TZOFFSETFROM:+0000
TZOFFSETTO:+0100
TZNAME:BST
DTSTART:20250330T010000
END:DAYLIGHT
BEGIN:STANDARD
TZOFFSETFROM:+0100
TZOFFSETTO:+0000
TZNAME:GMT
DTSTART:20251026T010000
END:STANDARD
END:VTIMEZONE
BEGIN:VEVENT
DTSTART;TZID=Europe/London:20240918T183000
DTEND;TZID=Europe/London:20240918T200000
DTSTAMP:20260419T201818
CREATED:20240624T092543Z
LAST-MODIFIED:20250908T122828Z
UID:20575-1726684200-1726689600@royalasiaticsociety.org
SUMMARY:The Life and Work of Noh Actor Akira Matsui (interviewed by Margaret Coldiron)
DESCRIPTION:[vc_row][vc_column][vc_column_text css=””]Akira Matsui is a master actor-teacher of the Kita School of Japanese classical noh theatre. Matsui was born in 1946 and began studying noh at the age of seven. He showed such talent that\, at age 12\, he became a “live-in apprentice” to Kita Minoru\, the 15th generation of noh masters of the Kita School (one of the five guilds of shite main role actors). From his firm foundation in tradition\, Matsui has experimented in intercultural fusions. He has acted in productions of plays by Shakespeare\, W.B. Yeats\, and Beckett\, and has written plays based on Rashoman and Hoichi. Together with American noh composer-performer Richard Emmert\, he has created a series of English Noh including St. Francis\, At the Hawk’s Well\, and Eliza. In addition\, he has choreographed noh-style dances to jazz ballads and to poetry by T.S. Eliot. In 1998\, he was designated an Important Intangible Cultural Asset by the Japanese government. In 2016\, Matsui was awarded an honorary doctorate by Royal Holloway\, University of London\, in recognition of his status as a Noh master and for his long record of achievement in bringing Noh to new international audiences. Join noh scholar Margaret Coldiron as Matsui reflects on his life\, his achievements\, and his belief that noh has much to offer contemporary international performance. \nDr Margaret Coldiron is a theatre director\, performer\, teacher and a specialist in Asian performance and masks. She is the author of Trance and Transformation of the Masked Actor in Japanese Noh and Balinese Dance Drama (Mellen Press 2004) and has published widely on masks\, Asian and intercultural performance and actor training. \nPart of the Nogaku education and outreach programme. Click here for the full programme. \nFeatured image: Matsui Akira performs Takasago at the Southbank Centre\, London\, January 2020. Photo: Clive Barda/ArenaPal[/vc_column_text][/vc_column][/vc_row]
URL:https://royalasiaticsociety.org/event/the-life-and-work-of-noh-actor-akira-matsui-interviewed-by-margaret-coldiron/
LOCATION:Royal Asiatic Society\, 14 Stephenson Way\, London\, NW1 2HD\, United Kingdom
CATEGORIES:Special Event
ATTACH;FMTTYPE=image/jpeg:https://royalasiaticsociety.org/wp-content/uploads/2024/06/noh-1.jpg
END:VEVENT
BEGIN:VEVENT
DTSTART;TZID=Europe/London:20240906T183000
DTEND;TZID=Europe/London:20240906T203000
DTSTAMP:20260419T201818
CREATED:20240624T091654Z
LAST-MODIFIED:20250908T134535Z
UID:20572-1725647400-1725654600@royalasiaticsociety.org
SUMMARY:Noh and Kyogen Masks Demonstration Talk with Kitazawa Hideta with Jannette Cheong
DESCRIPTION:[vc_row][vc_column][vc_column_text css=””]Mask-making Demonstration Talk \nRenowned mask-carver Kitazawa Hideta will be joined by author and producer of English-language noh Jannette Cheong\, to explore the process of designing\, carving and working with noh masks. Kitazawa is unique in the noh world in making new masks for innovative and experimental noh pieces\, including English-language noh\, as well as producing classical noh and kyogen (nohgaku) masks. He will demonstrate the different stages of carving\, offering a rare opportunity to understand how iconic noh masks are made for both traditional and contemporary noh. \nAt the end of this demonstration talk Kitazawa Hideta will undertake a book signing of his newly published book ‘Noh and Kyogen Masks: Tradition and Modernity in the Art of Kitazawa Hideta. \nKitazawa Hideta is a wood sculptor and noh mask maker based in Tokyo. He learned traditional wood carving of Buddhist and Shinto statuary from his father\, Kitazawa Ikkyo\, and later studied noh mask carving. He currently produces classical noh and kyogen masks and has been designated a master craftsman by the Tokyo Metropolitan government. Kitazawa has also created numerous shinsaku “new” masks for foreign language noh productions\, notably those of Theatre Nohgaku\, as well as for other noh influenced plays. He has given workshops and demonstrations in Japan and internationally and a book on his work entitled Noh and Kyogen Masks will be published by Prestel in Autumn 2024. \n  \n \n  \nJannette Cheong is a poet\, playwright\, designer and Theatre Nohgaku-affiliated artist. London born\, she has been involved with education and artistic collaborations\ninternationally for almost 40 years. She is the author of the English noh Pagoda\, the first English noh using traditional noh techniques written by a British person\, toured by the Oshima Noh Theatre/Theatre Nohgaku (Europe 2009\, Asia 2011). Her ballet-noh-opera collaborative piece\, Opposites-InVerse\, was performed for Matsui Akira’s tribute programme: Noh Time Like the Present\, London (2017). Her English noh Between the Stones (Europe\, 2020) was again toured by Oshima Noh Theatre/Theatre Nohgaku. \nTogether with Richard Emmert she co-authored (and designed) Noh and Kyogen Masks: Tradition and Modernity in the Art of Kitazawa Hideta. \nPart of the Nogaku education and outreach programme. Click here for the full programme. \nFeatured image: Oshima Kinue performs Pagoda at the National Noh Theatre\, Tokyo\, December 2009. Photo: Kitazawa Sohta[/vc_column_text][/vc_column][/vc_row]
URL:https://royalasiaticsociety.org/event/noh-and-kyogen-masks-demonstration-talk-with-kitazawa-hideta-with-jannette-cheong/
LOCATION:Royal Asiatic Society\, 14 Stephenson Way\, London\, NW1 2HD\, United Kingdom
CATEGORIES:Special Event
ATTACH;FMTTYPE=image/jpeg:https://royalasiaticsociety.org/wp-content/uploads/2024/06/noh1.jpg
END:VEVENT
BEGIN:VEVENT
DTSTART;TZID=Europe/London:20240705T093000
DTEND;TZID=Europe/London:20240705T173000
DTSTAMP:20260419T201818
CREATED:20240507T133004Z
LAST-MODIFIED:20250908T141627Z
UID:20376-1720171800-1720200600@royalasiaticsociety.org
SUMMARY:Conference: New Worlds of the East India Company SOLD OUT
DESCRIPTION:[vc_row][vc_column][vc_column_text css=””]New Worlds of the East India Company \n  \nPlease note that this event has now sold out. \n  \n5 July 2024 \nRoyal Asiatic Society\, 14 Stephenson Way\, London\, NW1 2HD \n  \n  \n9.30. Coffee \n  \n9:45. Introduction: John McAleer (Southampton) and Joshua Ehrlich (Macau) \n  \n10:00. Panel 1: Beginnings\, Ends\, and Legacies \n\nRupali Mishra (Auburn): ‘The “Idea” of Government and Authority in the Early East India Company’\nGuido van Meersbergen (Warwick): ‘Revisiting East India Company Diplomacy: The William Norris Embassy to Mughal India (1699–1702)’\nGiorgio Riello (EUI) and Guillemette Crouzet (EUI): ‘Rethinking “French” and “British” India: The “Diary” of Ananda Ranga Pillai’\nJohn McAleer (Southampton): ‘“In the spacious times of old”: The Afterlife of the East India Company\, 1899–1909’\n\n  \n11:30. Panel 2: Labour\, Knowledge\, and Networks \n\nMargaret Makepeace (British Library): ‘The World of the East India Company London Warehouse Labourers\, 1800–1858’\nJessica Hanser (Copenhagen): ‘Slavery\, Servitude\, and the East India Company in China’\nAnna Winterbottom (McGill): ‘Politics of Medicine and Natural Knowledge in Madras\, c. 1789–1809’\nJoshua Ehrlich (Macau): ‘Two Muttiahs and the Making of Company Power in South India’\n\n  \n13:00. Lunch \n  \n \n  \n14:00. Panel 3: Art and Visual Culture \n\nRishad Choudhury (Oberlin): ‘A Portrait of the Mercenary as a Nobleman: Persianate Prosopography and Colonial Portraiture in Company School Art’\nJennifer Howes (Independent): ‘“A Needless Profusion”: The East India Company’s unwitting Patronage of the Arts under Richard Wellesley (1800–1805)’\nTom Young (Courtauld): ‘Amateur Art and the East India Company’s Civil Service\, c. 1800–58’\nBrooke Krancer (Yale Center for British Art\, New Haven) and Anita Dey (Yale Center for British Art\, New Haven)\, ‘Chromatic Confluence: The East India Company and the Materiality of British Art’\n\n  \n15.30. Tea \n  \n16:00. Panel 4: Protest and Scandal \n\nCheryl Fury (University of New Brunswick): ‘“I willed no more peas to be given the company”: Provisioning\, Protest and “ApPEASement” in Early East India Company Voyages’\nCallie Wilkinson (LMU Munich): ‘Bearing Witness in Wartime: Unauthorized Disclosures in the East India Company’s Armies\, 1780–1850’\nNicholas Hoover Wilson (Stony Brook): ‘“To operate upon the root of the evil”: Charles Trevelyan and the Arc of Company Corruption’\nAndrea Major (Leeds): ‘Critics of the Company: Challenging East India Company Colonialism in Manchester\, Calcutta\, and Delhi\, 1838–1843’\n\n  \n17:30. Conclusion. \n  \n \n  \n[/vc_column_text][/vc_column][/vc_row]
URL:https://royalasiaticsociety.org/event/20376/
LOCATION:Royal Asiatic Society Lecture Theatre\, 14 Stephenson Way\, London\, NW1 2HD\, United Kingdom
CATEGORIES:Special Event
ATTACH;FMTTYPE=image/jpeg:https://royalasiaticsociety.org/wp-content/uploads/2024/05/Huggins_East-Indiamen-in-the-China-Seas.jpg
END:VEVENT
BEGIN:VEVENT
DTSTART;TZID=Europe/London:20240425T183000
DTEND;TZID=Europe/London:20240425T203000
DTSTAMP:20260419T201818
CREATED:20240402T111437Z
LAST-MODIFIED:20250908T143149Z
UID:20238-1714069800-1714077000@royalasiaticsociety.org
SUMMARY:Bayly Prize 2023 prizegiving ceremony
DESCRIPTION:We are pleased to announce that Dr. Thomas Barrett has been awarded the Bayly Prize. The finalists included Dr.Mariano Errichiello\, Dr. Kelsey Granger and Dr. Yui Lo. \n  \n \nDr. Thomas P. Barrett is currently a Postdoctoral Research Associate at the Faculty of Asian and Middle East Studies and a Junior Research Fellow at Wolfson College\, Cambridge\, who specialises in the international and diplomatic history of pre-modern and modern East Asia. Prior to taking up his current post at Cambridge\, Thomas was trained in the Japanese Sinological tradition\, completing his BA at Aichi University (the successor to the Shanghai-based Tōa Dōbun Shoin) and his MA at the University of Tokyo. In 2016\, he began his PhD at the University of Tokyo as a Japan Society for the Promotion of Science DC Research Fellow. In 2019\, he moved to the University of Oxford\, where he completed his doctoral project under the supervision of Professor Henrietta Harrison. \n  \nThomas’ current book project explores the development of the professional Chinese diplomat through the lens of the foreign presence who worked in Qing and Republican China’s legations and consulates. Portions of the project have hitherto been published as articles in Japanese in Shigaku Zasshi and Tōyō Gakuhō\, and also as a chapter in a French-language volume published with the École française d’Extrême-Orient. Thomas’ Shigaku Zasshi article was recently awarded the 10th Historical Society of Japan Prize\, which was established in 2014 to celebrate the work of scholars under the age of 40 who have made a critical contribution to historiography in the Japanese language. \n  \n \nDr.Mariano Errichiello is the Shapoorji Pallonji Lecturer of Zoroastrianism\, Co-Chair and Executive Director of the Shapoorji Pallonji Institute of Zoroastrian Studies at SOAS University of London\, where he earned his PhD in 2022. Mariano has presented his research on Zoroastrian social history\, esotericism and ritual performance in international conferences in Asia\, Europe\, and the US earning two Honourable mentions by the Ancient India & Iran Trust (AIIT) and the inaugural Early Career Prize by the Association for the Study of Persianate Societies and the Journal of Persianate Studies. Prior to his current appointment\, Mariano has been a Resident Fellow of the Centre for Comparative Studies of Civilisations and Spiritualities at Fondazione Giorgio Cini in Venice\, a Research Fellow of the Nordic Institute of Asian Studies at the University of Copenhagen\, and a Postdoctoral Fellow at the Centre for Advanced Studies in the Humanities and Social Sciences of the Friedrich-Alexander-Universität Erlangen-Nürnberg in Germany. \n  \n \nSince receiving her doctorate from the University of Cambridge in 2022\, Dr. Kelsey Granger has been an Alexander von Humboldt Research Fellow affiliated with Ludwig-Maximilian University\, Munich. Working with Prof. Armin Selbitschka\, her current research focuses on first-century BC excavated records of postal horses housed at the Xuanquan relay station\, located on the fringes of China’s Han empire. As she is particularly interested in intersections between animal\, gender\, and commodities histories\, she hopes to expand her doctoral research on the exoticised and highly-feminised practice of lapdog-keeping in medieval China by exploring the stark commercialisation of pet-keeping in Song China. Related canine research has been published in the Bulletin of SOAS and the Journal of the Royal Asiatic Society\, for which she received the 2023 Sir George Staunton Prize. \n  \n \nDr. Yui Lo is Lecturer in Modern Chinese and East Asian History at the University of Oxford\, where he teaches Chinese and global history. He is currently revising his doctoral thesis in preparation for its publication.  To this end\, he will conduct additional archival research in summer 2024.
URL:https://royalasiaticsociety.org/event/bayly-prize-2023-prizegiving-ceremony/
LOCATION:Royal Asiatic Society Lecture Theatre\, 14 Stephenson Way\, London\, NW1 2HD\, United Kingdom
CATEGORIES:Special Event
ATTACH;FMTTYPE=image/jpeg:https://royalasiaticsociety.org/wp-content/uploads/2025/08/Bayly-Prize-Poster-2025.jpg
END:VEVENT
BEGIN:VEVENT
DTSTART;TZID=Europe/London:20240118T183000
DTEND;TZID=Europe/London:20240118T203000
DTSTAMP:20260419T201818
CREATED:20231205T091232Z
LAST-MODIFIED:20250908T143253Z
UID:19797-1705602600-1705609800@royalasiaticsociety.org
SUMMARY:Prof Francis Robinson Festschrift Launch
DESCRIPTION:
URL:https://royalasiaticsociety.org/event/prof-francis-robinson-festschrift-launch/
LOCATION:Royal Asiatic Society Lecture Theatre\, 14 Stephenson Way\, London\, NW1 2HD\, United Kingdom
CATEGORIES:RAS Lecture Series 2023 - 24,Special Event
ATTACH;FMTTYPE=image/jpeg:https://royalasiaticsociety.org/wp-content/uploads/2021/10/Professor-Francis-Robinson-e1633688287680.jpg
END:VEVENT
BEGIN:VEVENT
DTSTART;TZID=Europe/London:20231206T183000
DTEND;TZID=Europe/London:20231206T203000
DTSTAMP:20260419T201818
CREATED:20231129T103259Z
LAST-MODIFIED:20250908T143529Z
UID:19770-1701887400-1701894600@royalasiaticsociety.org
SUMMARY:Launch Of The Reissue Of Tod's Annals And Antiquities
DESCRIPTION:
URL:https://royalasiaticsociety.org/event/launch-of-the-reissue-of-tods-annals-and-antiquities/
LOCATION:Brunei Gallery\, SOAS\, Thornhaugh Street\, Russell Square\, London\, England\, WC1H 0XG\, United Kingdom
CATEGORIES:Special Event
ATTACH;FMTTYPE=image/jpeg:https://royalasiaticsociety.org/wp-content/uploads/2023/12/IMG_20231206_184413.jpg
END:VEVENT
BEGIN:VEVENT
DTSTART;TZID=Europe/London:20231201T190000
DTEND;TZID=Europe/London:20231201T210000
DTSTAMP:20260419T201818
CREATED:20231026T112932Z
LAST-MODIFIED:20231116T121929Z
UID:19678-1701457200-1701464400@royalasiaticsociety.org
SUMMARY:Jessica Harrison-Hall: China's Hidden Century (at SOAS Djam Lecture Theatre\, joint event with The Meridian Society)
DESCRIPTION:Date:   Friday 1st December\, 2023 \nTime:   19:00-21:00 \nVenue: Djam Lecture Theatre\nSOAS Main Building\n10 Thornhaugh Street\, Russell Square\nLondon WC1H 0XG \n  \nThe Meridian Society is delighted to present the above event in association with the Royal Asiatic Society\, the Society for Anglo-Chinese Understanding and the SOAS Chinese Culture Society. \n  \nVisitors to the exhibition CHINA’S HIDDEN CENTURY at the British Museum over the past months will no doubt have been astonished by the cultural creativity that emerged during the last hundred years of the Qing Dynasty despite the social\, economic and political upheavals of the time. We are therefore very pleased to invite Jessica Harrison-Hall\, the museum’s Head of China Section and the exhibition’s lead curator\, to give a retrospective view of the exhibition. \n  \nFollowing the talk\, Ms Harrison-Hall will be joined by Dr Lars Laamann\, Senior Lecturer in the History of China at SOAS\, and Dr Hwee-San Tan\, Research Associate in Ethnomusicology at SOAS\, for a panel discussion on this period of history. \n  \nThe talk will be topped and tailed by performances of Qing court music performed by the SOAS Sizhu Ensemble. \n  \nThe event is free\, but donations are welcome and all proceeds will go to the SOAS Sizhu Ensemble to fund their trip to Portugal next year. \n  \nPlease RSVP to themeridiansociety@gmail.com if you are planning to attend.
URL:https://royalasiaticsociety.org/event/jessica-harrison-hall-chinas-hidden-century-joint-event-with-the-meridian-society/
LOCATION:Djam Lecture Theatre\, SOAS
CATEGORIES:Special Event
END:VEVENT
BEGIN:VEVENT
DTSTART;TZID=Europe/London:20230804T183000
DTEND;TZID=Europe/London:20230804T203000
DTSTAMP:20260419T201818
CREATED:20230710T104941Z
LAST-MODIFIED:20230710T104941Z
UID:19273-1691173800-1691181000@royalasiaticsociety.org
SUMMARY:New Histories of the East India Company - Panel discussion
DESCRIPTION:
URL:https://royalasiaticsociety.org/event/new-histories-of-the-east-india-company-panel-discussion/
LOCATION:Royal Asiatic Society Lecture Theatre\, 14 Stephenson Way\, London\, NW1 2HD\, United Kingdom
CATEGORIES:Special Event
END:VEVENT
BEGIN:VEVENT
DTSTART;TZID=Europe/London:20230119T183000
DTEND;TZID=Europe/London:20230119T183000
DTSTAMP:20260419T201818
CREATED:20230116T121805Z
LAST-MODIFIED:20230116T121805Z
UID:18892-1674153000-1674153000@royalasiaticsociety.org
SUMMARY:Bayly Prize 2022
DESCRIPTION:
URL:https://royalasiaticsociety.org/event/bayly-prize-2022/
LOCATION:Royal Asiatic Society\, 14 Stephenson Way\, London\, NW1 2HD\, United Kingdom
CATEGORIES:Special Event
END:VEVENT
BEGIN:VEVENT
DTSTART;TZID=Europe/London:20221110T183000
DTEND;TZID=Europe/London:20221110T203000
DTSTAMP:20260419T201818
CREATED:20220913T085302Z
LAST-MODIFIED:20220913T085302Z
UID:18260-1668105000-1668112200@royalasiaticsociety.org
SUMMARY:Award of the RAS Medal: Carole and Robert Hillenbrand
DESCRIPTION:
URL:https://royalasiaticsociety.org/event/award-of-the-ras-medal-carole-and-robert-hillenbrand/
LOCATION:Royal Asiatic Society Lecture Theatre\, 14 Stephenson Way\, London\, NW1 2HD\, United Kingdom
CATEGORIES:Special Event
END:VEVENT
BEGIN:VEVENT
DTSTART;TZID=Europe/London:20220407T183000
DTEND;TZID=Europe/London:20220407T203000
DTSTAMP:20260419T201818
CREATED:20220114T161506Z
LAST-MODIFIED:20220324T173103Z
UID:17588-1649356200-1649363400@royalasiaticsociety.org
SUMMARY:Award of the RAS Medal: Professors Robert and Carole Hillenbrand
DESCRIPTION:For Zoom registration please email Matty Bradley at mb@royalasiaticsociety.org \n  \nProfessor Carole Hillenbrand was appointed Professor of Islamic History in 2000 at the University of Edinburgh and was awarded an OBE for services to Higher Education in 2009. In 2005\, she was awarded the King Faisal Prize for Islamic Studies\, (the first non-Muslim to be awarded this prize) and  in 2016 the British Academy/ Nayef Al-Rodhan Prize for Transcultural Understanding. Her research interests include the Crusades\, the Seljuqs of Iran and Turkey\,  and  medieval Muslim political thought\, especially the work of al-Ghazali.  She is the author of five major books\, the editor of three major volumes and numerous articles.  Her book  The Crusades: Islamic Perspectives published by Edinburgh University Press in 1999\, was the first to examine in depth the Crusades from the Muslim point of view. Her most recent edited volume\, expected in August 2019\, is entitled Syria in Crusader Times: Conflict and Co-existence. \n  \nProfessor Robert Hillenbrand is Professor of Art History at the University of St. Andrews and is Honorary Professorial fellow at the University of Edinburgh where he was appointed Professor of Islamic Art in 1989. He is a prolific scholar whose interests focus on Islamic architecture\, painting and iconography\, with particular reference to Iran and early Islamic Syria. His nine books include the prize-winning Islamic Architecture: Form\, Function and Meaning\, (1995)\, Islamic Art and Architecture (1999)\, The Architecture of Ottoman Jerusalem: An  introduction (2002) and Studies in Medieval Islamic Architecture (2 vols.2001-2). In addition\, he has co-authored\, edited and co-edited twelve books including The Art of the Saljuqs in Iran and Anatolia (1997)\, Persian Painting from the Mongols to the Qajars\, (2001)\, Shahnama: The Visual Language of the Persian Book of Kings\, (2004) and Image and Meaning in Islamic Art\, (2005) and Ferdowsi \, the Mongols and the History of Iran: Art\, Literature and Culture from Early Islam to the Qajar Persia\, (2013). He has also published some 170 articles on aspects of Islamic art and architecture.
URL:https://royalasiaticsociety.org/event/award-of-the-ras-medal-the-seljuq-sultans-in-the-world-history-of-rashid-al-din-and-images-of-the-seljuq-sultans-in-the-world-history-of-rashid-al-din/
CATEGORIES:Special Event
END:VEVENT
BEGIN:VEVENT
DTSTART;TZID=Europe/London:20211202T180000
DTEND;TZID=Europe/London:20211202T200000
DTSTAMP:20260419T201818
CREATED:20211125T110549Z
LAST-MODIFIED:20211125T110549Z
UID:17463-1638468000-1638475200@royalasiaticsociety.org
SUMMARY:Rustaveli Day 2021
DESCRIPTION:
URL:https://royalasiaticsociety.org/event/rustaveli-day-2021/
LOCATION:Royal Asiatic Society Lecture Theatre\, 14 Stephenson Way\, London\, NW1 2HD\, United Kingdom
CATEGORIES:Special Event
END:VEVENT
BEGIN:VEVENT
DTSTART;TZID=Europe/London:20211111T183000
DTEND;TZID=Europe/London:20211111T203000
DTSTAMP:20260419T201818
CREATED:20210920T152822Z
LAST-MODIFIED:20210920T152822Z
UID:17153-1636655400-1636662600@royalasiaticsociety.org
SUMMARY:Bayly Prize Award
DESCRIPTION:
URL:https://royalasiaticsociety.org/event/bayly-prize-award/
LOCATION:Royal Asiatic Society Lecture Theatre\, 14 Stephenson Way\, London\, NW1 2HD\, United Kingdom
CATEGORIES:Special Event
END:VEVENT
BEGIN:VEVENT
DTSTART;TZID=Europe/London:20190513T180000
DTEND;TZID=Europe/London:20190513T210000
DTSTAMP:20260419T201818
CREATED:20190417T160238Z
LAST-MODIFIED:20190417T160238Z
UID:11591-1557770400-1557781200@royalasiaticsociety.org
SUMMARY:Special Event (ticketed): Nawal Nasrallah: Treasure Trove of Benefits and Variety at the Table: A Fourteenth-Century Egyptian Cookbook
DESCRIPTION:Doors at 6.00 for a 6.30pm start. \n  \nAward-winning researcher and food writer Nawal Nasrallah will give an exclusive talk at the Royal Asiatic Society on the subject of her translation of Kanz al-fawāʾid fī tanwīʿ al-mawāʾid\, a fourteenth-century Egyptian cookbook\, entitled Treasure Trove of Benefits and Variety at the Table. \n \nIt is the only surviving cookbook from a period when Cairo was a flourishing metropolis and a cultural haven for people of diverse ethnicities and nationalities. Now available for the first time in English\, it has been meticulously translated and supplemented with a comprehensive introduction\, glossary\, and 117 color illustrations to initiate readers into the world of the Kanz al-fawāʾid. \nThis event will provide valuable insights for scholars of medieval material culture\, and for all lovers of good food and cookbooks. \nThe event will be introduced by Professor Doris Behrens-Abouseif. \nFollowing the event there will be a food and drinks reception\, where attendees can sample dishes made using recipes from the book \n  \n \n  \nTICKETS PURCHASE: \nTickets are £15 for members and £20 for non-members. \nYou may send a cheque to our address or pay via PayPal: \n[wp_paypal_payment_box email=”info@royalasiaticsociety.org” options=”Members:15.00|Non – Members:20.00″ reference =”Your Email Address” return=”the-return-url-page” currency=”GBP”]
URL:https://royalasiaticsociety.org/event/special-event-ticketed-nawal-nasrallah-treasure-trove-of-benefits-and-variety-at-the-table-a-fourteenth-century-egyptian-cookbook/
LOCATION:Royal Asiatic Society Lecture Theatre\, 14 Stephenson Way\, London\, NW1 2HD\, United Kingdom
CATEGORIES:Special Event
END:VEVENT
END:VCALENDAR