BEGIN:VCALENDAR
VERSION:2.0
PRODID:-//Royal Asiatic Society - ECPv6.15.20//NONSGML v1.0//EN
CALSCALE:GREGORIAN
METHOD:PUBLISH
X-WR-CALNAME:Royal Asiatic Society
X-ORIGINAL-URL:https://royalasiaticsociety.org
X-WR-CALDESC:Events for Royal Asiatic Society
REFRESH-INTERVAL;VALUE=DURATION:PT1H
X-Robots-Tag:noindex
X-PUBLISHED-TTL:PT1H
BEGIN:VTIMEZONE
TZID:Europe/London
BEGIN:DAYLIGHT
TZOFFSETFROM:+0000
TZOFFSETTO:+0100
TZNAME:BST
DTSTART:20210328T010000
END:DAYLIGHT
BEGIN:STANDARD
TZOFFSETFROM:+0100
TZOFFSETTO:+0000
TZNAME:GMT
DTSTART:20211031T010000
END:STANDARD
BEGIN:DAYLIGHT
TZOFFSETFROM:+0000
TZOFFSETTO:+0100
TZNAME:BST
DTSTART:20220327T010000
END:DAYLIGHT
BEGIN:STANDARD
TZOFFSETFROM:+0100
TZOFFSETTO:+0000
TZNAME:GMT
DTSTART:20221030T010000
END:STANDARD
BEGIN:DAYLIGHT
TZOFFSETFROM:+0000
TZOFFSETTO:+0100
TZNAME:BST
DTSTART:20230326T010000
END:DAYLIGHT
BEGIN:STANDARD
TZOFFSETFROM:+0100
TZOFFSETTO:+0000
TZNAME:GMT
DTSTART:20231029T010000
END:STANDARD
END:VTIMEZONE
BEGIN:VEVENT
DTSTART;TZID=Europe/London:20221208T183000
DTEND;TZID=Europe/London:20221208T203000
DTSTAMP:20260419T153511
CREATED:20220913T085923Z
LAST-MODIFIED:20221031T160736Z
UID:18268-1670524200-1670531400@royalasiaticsociety.org
SUMMARY:Professor Tim Williams - Along the Silk Roads of Central Asia (Burton Medal 2022)
DESCRIPTION:
URL:https://royalasiaticsociety.org/event/professor-tim-williams-along-the-silk-roads-of-central-asia/
LOCATION:Royal Asiatic Society Lecture Theatre\, 14 Stephenson Way\, London\, NW1 2HD\, United Kingdom
CATEGORIES:RAS Lecture Series 2022-23
END:VEVENT
BEGIN:VEVENT
DTSTART;TZID=Europe/London:20221129T183000
DTEND;TZID=Europe/London:20221129T203000
DTSTAMP:20260419T153511
CREATED:20220913T084929Z
LAST-MODIFIED:20220926T125236Z
UID:18256-1669746600-1669753800@royalasiaticsociety.org
SUMMARY:Treasures of Herat with Barbara Brend and Ursula Sims-Williams
DESCRIPTION:
URL:https://royalasiaticsociety.org/event/treasures-of-herat-with-barbara-brend-and-ursula-sims-williams/
LOCATION:Royal Asiatic Society Lecture Theatre\, 14 Stephenson Way\, London\, NW1 2HD\, United Kingdom
CATEGORIES:RAS Lecture Series 2022-23
END:VEVENT
BEGIN:VEVENT
DTSTART;TZID=Europe/London:20221124T183000
DTEND;TZID=Europe/London:20221124T203000
DTSTAMP:20260419T153511
CREATED:20220913T085602Z
LAST-MODIFIED:20220913T085602Z
UID:18264-1669314600-1669321800@royalasiaticsociety.org
SUMMARY:Dr. Olly Akkerman Book Launch: A Neo-Fatimid Treasury of Books in Gujarat. Arabic Manuscripts among the Alawi Bohras of Baroda
DESCRIPTION:
URL:https://royalasiaticsociety.org/event/dr-olly-akkerman-book-launch-a-neo-fatimid-treasury-of-books-in-gujarat-arabic-manuscripts-among-the-alawi-bohras-of-baroda/
LOCATION:Royal Asiatic Society Lecture Theatre\, 14 Stephenson Way\, London\, NW1 2HD\, United Kingdom
CATEGORIES:RAS Lecture Series 2022-23
END:VEVENT
BEGIN:VEVENT
DTSTART;TZID=Europe/London:20221115T183000
DTEND;TZID=Europe/London:20221115T203000
DTSTAMP:20260419T153511
CREATED:20220913T085415Z
LAST-MODIFIED:20221026T093500Z
UID:18262-1668537000-1668544200@royalasiaticsociety.org
SUMMARY:Moin Mir Book Launch: The Lost Fragrance of Infinity - A novel on Sufism
DESCRIPTION:
URL:https://royalasiaticsociety.org/event/moin-mir-book-launch-the-lost-fragrance-of-infinity/
LOCATION:Royal Asiatic Society Lecture Theatre\, 14 Stephenson Way\, London\, NW1 2HD\, United Kingdom
CATEGORIES:RAS Lecture Series 2022-23
END:VEVENT
BEGIN:VEVENT
DTSTART;TZID=Europe/London:20221108T183000
DTEND;TZID=Europe/London:20221108T203000
DTSTAMP:20260419T153511
CREATED:20220913T085104Z
LAST-MODIFIED:20221027T172537Z
UID:18258-1667932200-1667939400@royalasiaticsociety.org
SUMMARY:Dr. Peter Andrews: A Lifetime in Tents (Burton Medal 2022)
DESCRIPTION:
URL:https://royalasiaticsociety.org/event/dr-peter-andrews-a-lifetime-in-tents/
LOCATION:Royal Asiatic Society Lecture Theatre\, 14 Stephenson Way\, London\, NW1 2HD\, United Kingdom
CATEGORIES:RAS Lecture Series 2022-23
END:VEVENT
BEGIN:VEVENT
DTSTART;TZID=Europe/London:20221025T183000
DTEND;TZID=Europe/London:20221025T203000
DTSTAMP:20260419T153511
CREATED:20220916T154235Z
LAST-MODIFIED:20220916T154235Z
UID:18283-1666722600-1666729800@royalasiaticsociety.org
SUMMARY:Derek Davis: A Journey to Arzrum Launch
DESCRIPTION:
URL:https://royalasiaticsociety.org/event/derek-davis-a-journey-to-arzrum-launch/
LOCATION:Royal Asiatic Society Lecture Theatre\, 14 Stephenson Way\, London\, NW1 2HD\, United Kingdom
CATEGORIES:RAS Lecture Series 2022-23
END:VEVENT
BEGIN:VEVENT
DTSTART;TZID=Europe/London:20221017T183000
DTEND;TZID=Europe/London:20221017T203000
DTSTAMP:20260419T153511
CREATED:20220913T084728Z
LAST-MODIFIED:20220913T084728Z
UID:18254-1666031400-1666038600@royalasiaticsociety.org
SUMMARY:Dr. Sana Haroon - The Mosques of Colonial South Asia
DESCRIPTION:
URL:https://royalasiaticsociety.org/event/dr-sana-haroon-the-mosques-of-colonial-south-asia/
LOCATION:Royal Asiatic Society Lecture Theatre\, 14 Stephenson Way\, London\, NW1 2HD\, United Kingdom
CATEGORIES:RAS Lecture Series 2022-23
END:VEVENT
BEGIN:VEVENT
DTSTART;TZID=Europe/London:20221013T183000
DTEND;TZID=Europe/London:20221013T203000
DTSTAMP:20260419T153511
CREATED:20220913T084556Z
LAST-MODIFIED:20220913T084556Z
UID:18252-1665685800-1665693000@royalasiaticsociety.org
SUMMARY:Dr Shivan Mahendrarajah - David Morgan Memorial Lecture: Cicero’s ‘Endless Streams of Money’ and the March of the Mongol Armies
DESCRIPTION:
URL:https://royalasiaticsociety.org/event/dr-shivan-mahendrarajah-david-morgan-memorial-lecture-ciceros-endless-streams-of-money-and-the-march-of-the-mongol-armies/
LOCATION:Royal Asiatic Society Lecture Theatre\, 14 Stephenson Way\, London\, NW1 2HD\, United Kingdom
CATEGORIES:RAS Lecture Series 2022-23
END:VEVENT
BEGIN:VEVENT
DTSTART;TZID=Europe/London:20221008T090000
DTEND;TZID=Europe/London:20221008T180000
DTSTAMP:20260419T153511
CREATED:20220913T084411Z
LAST-MODIFIED:20220913T084411Z
UID:18250-1665219600-1665252000@royalasiaticsociety.org
SUMMARY:Special Event: Cultural Worlds at the Jaipur Court (ticketed event)  Dr. Mrinalini Venkateswaran and Dr.Giles Tillotson
DESCRIPTION:
URL:https://royalasiaticsociety.org/event/special-event-cultural-worlds-at-the-jaipur-court-ticketed-event-dr-mrinalini-venkateswaran-and-dr-giles-tillotson/
LOCATION:Royal Asiatic Society Lecture Theatre\, 14 Stephenson Way\, London\, NW1 2HD\, United Kingdom
CATEGORIES:RAS Lecture Series 2022-23
END:VEVENT
BEGIN:VEVENT
DTSTART;TZID=Europe/London:20221004T183000
DTEND;TZID=Europe/London:20221004T203000
DTSTAMP:20260419T153511
CREATED:20220913T084159Z
LAST-MODIFIED:20220913T084159Z
UID:18248-1664908200-1664915400@royalasiaticsociety.org
SUMMARY:Dr Giles Tillotson - Tiger & Tyrant: Images of Tipu Sultan in British History Painting
DESCRIPTION:
URL:https://royalasiaticsociety.org/event/dr-giles-tillotson-tiger-tyrant-images-of-tipu-sultan-in-british-history-painting/
LOCATION:Royal Asiatic Society Lecture Theatre\, 14 Stephenson Way\, London\, NW1 2HD\, United Kingdom
CATEGORIES:RAS Lecture Series 2022-23
END:VEVENT
END:VCALENDAR