BEGIN:VCALENDAR
VERSION:2.0
PRODID:-//Royal Asiatic Society - ECPv6.15.20//NONSGML v1.0//EN
CALSCALE:GREGORIAN
METHOD:PUBLISH
X-ORIGINAL-URL:https://royalasiaticsociety.org
X-WR-CALDESC:Events for Royal Asiatic Society
REFRESH-INTERVAL;VALUE=DURATION:PT1H
X-Robots-Tag:noindex
X-PUBLISHED-TTL:PT1H
BEGIN:VTIMEZONE
TZID:Europe/London
BEGIN:DAYLIGHT
TZOFFSETFROM:+0000
TZOFFSETTO:+0100
TZNAME:BST
DTSTART:20180325T010000
END:DAYLIGHT
BEGIN:STANDARD
TZOFFSETFROM:+0100
TZOFFSETTO:+0000
TZNAME:GMT
DTSTART:20181028T010000
END:STANDARD
BEGIN:DAYLIGHT
TZOFFSETFROM:+0000
TZOFFSETTO:+0100
TZNAME:BST
DTSTART:20190331T010000
END:DAYLIGHT
BEGIN:STANDARD
TZOFFSETFROM:+0100
TZOFFSETTO:+0000
TZNAME:GMT
DTSTART:20191027T010000
END:STANDARD
BEGIN:DAYLIGHT
TZOFFSETFROM:+0000
TZOFFSETTO:+0100
TZNAME:BST
DTSTART:20200329T010000
END:DAYLIGHT
BEGIN:STANDARD
TZOFFSETFROM:+0100
TZOFFSETTO:+0000
TZNAME:GMT
DTSTART:20201025T010000
END:STANDARD
END:VTIMEZONE
BEGIN:VEVENT
DTSTART;TZID=Europe/London:20191017T183000
DTEND;TZID=Europe/London:20191017T210000
DTSTAMP:20260419T181713
CREATED:20190906T092433Z
LAST-MODIFIED:20190906T092433Z
UID:11901-1571337000-1571346000@royalasiaticsociety.org
SUMMARY:Professor Stephen Martin (University of Chiang Mai)
DESCRIPTION:Flute Lecture Concert: Surviving Asia\, Sponsoring Mozart.\nThe Polymathic Portrait of Dr Ferdinand Dejean
URL:https://royalasiaticsociety.org/event/professor-stephen-martin-university-of-chiang-mai/
LOCATION:Royal Asiatic Society Lecture Theatre\, 14 Stephenson Way\, London\, NW1 2HD\, United Kingdom
CATEGORIES:RAS Lecture Series 2019-20
ORGANIZER;CN="Amy Riach":MAILTO:ar at royalasiaticsociety.org
END:VEVENT
BEGIN:VEVENT
DTSTART;TZID=Europe/London:20190926T183000
DTEND;TZID=Europe/London:20190926T210000
DTSTAMP:20260419T181713
CREATED:20190905T102626Z
LAST-MODIFIED:20190905T102626Z
UID:11899-1569522600-1569531600@royalasiaticsociety.org
SUMMARY:Dr. Stefan Halikowski-Smith (Swansea University)
DESCRIPTION:Lecture: Two Missionary Accounts of Southeast Asia in the Late Seventeenth Century
URL:https://royalasiaticsociety.org/event/dr-stefan-halikowski-smith-swansea-university/
LOCATION:Royal Asiatic Society Lecture Theatre\, 14 Stephenson Way\, London\, NW1 2HD\, United Kingdom
CATEGORIES:RAS Lecture Series 2019-20
ORGANIZER;CN="Amy Riach":MAILTO:ar at royalasiaticsociety.org
END:VEVENT
END:VCALENDAR