BEGIN:VCALENDAR
VERSION:2.0
PRODID:-//Royal Asiatic Society - ECPv6.15.20//NONSGML v1.0//EN
CALSCALE:GREGORIAN
METHOD:PUBLISH
X-ORIGINAL-URL:https://royalasiaticsociety.org
X-WR-CALDESC:Events for Royal Asiatic Society
REFRESH-INTERVAL;VALUE=DURATION:PT1H
X-Robots-Tag:noindex
X-PUBLISHED-TTL:PT1H
BEGIN:VTIMEZONE
TZID:Europe/London
BEGIN:DAYLIGHT
TZOFFSETFROM:+0000
TZOFFSETTO:+0100
TZNAME:BST
DTSTART:20170326T010000
END:DAYLIGHT
BEGIN:STANDARD
TZOFFSETFROM:+0100
TZOFFSETTO:+0000
TZNAME:GMT
DTSTART:20171029T010000
END:STANDARD
BEGIN:DAYLIGHT
TZOFFSETFROM:+0000
TZOFFSETTO:+0100
TZNAME:BST
DTSTART:20180325T010000
END:DAYLIGHT
BEGIN:STANDARD
TZOFFSETFROM:+0100
TZOFFSETTO:+0000
TZNAME:GMT
DTSTART:20181028T010000
END:STANDARD
BEGIN:DAYLIGHT
TZOFFSETFROM:+0000
TZOFFSETTO:+0100
TZNAME:BST
DTSTART:20190331T010000
END:DAYLIGHT
BEGIN:STANDARD
TZOFFSETFROM:+0100
TZOFFSETTO:+0000
TZNAME:GMT
DTSTART:20191027T010000
END:STANDARD
END:VTIMEZONE
BEGIN:VEVENT
DTSTART;TZID=Europe/London:20180410T190000
DTEND;TZID=Europe/London:20180410T210000
DTSTAMP:20260420T144028
CREATED:20180308T175051Z
LAST-MODIFIED:20180308T175051Z
UID:5430-1523386800-1523394000@royalasiaticsociety.org
SUMMARY:Festschrift for Professor Peter Robb (SOAS)
DESCRIPTION:Book Launch and Discussion: Memory\, Identity and the Colonial Encounter in India: Essays in Honour of Peter Robb\, edited by Ezra Rashkow\, Sanjukta Ghosh and Upal Chakrabarti \nTuesday\, April 10\, @ 6.00 to 8.00 pm \nVenue: The Royal Asiatic Society\, 14 Stephenson Way\, London\, NW1 2HD \nChair: Dr Gordon Johnson (President\, The Royal Asiatic Society) \n  \nEditors’ Introduction: Dr Ezra Rashkow (Montclair\, US)\, Dr Sanjukta Ghosh (SOAS) \nPanel Speakers: Prof Francis Robinson (RAS & Royal Holloway)\, Prof Ananya Jahanara Kabir (King’s College\, London)\, Prof Edward Simpson (SOAS South Asia Institute) \nEditors in Conversation with Prof Peter Robb (SOAS & RAS) \nDiscussion \nConcluding Remarks: Dr Clive Dewey (Leicester) and \nDr Eleanor Newbigin (SOAS\, History Department) \nDrinks Reception \nOrganisers: SOAS South Asia Institute\, Department of History (SOAS) and the Royal Asiatic Society of Great Britain and Ireland. \nContact: sg83 at soas.ac.uk; ssai at soas.ac.uk \nAmy Riach ar at royalasiaticsociety.org \n  \n  \nIn this celebratory book launch of Memory\, Identity and the Colonial Encounter in India: Essays in Honour of Peter Robb\, the volume’s editors will join in conversation with Professor Peter Robb and other distinguished panellists to discuss various analytical approaches to rethinking relationships between memory and identity during the period of British rule in the subcontinent. \n  \nThis festschrift is a tribute to Professor Peter Robb’s seminal contributions to a range of important debates in modern South Asian history. The papers in the volume are written by both senior and early career scholars in the field\, and many of these were presented at the SOAS history conference ‘Ideologies and Institutions: a conference to celebrate the career and works of Peter Robb’\, in September 2013. Drawing broadly from Robb’s lecture transcript on memorials included in the book\, the volume also engages with some of his other works. \n  \nThe publication of this collection of essays in the year of the SOAS centenary\, in late 2017\, coincided with the 70th year of India and Pakistan’s commemoration of independence and the Partition of 1947\, prompting a renewed interest in examining the legacy of the British Raj. Memory studies have proliferated in recent years based on an emotional understanding of the past\, but with a few exceptions\, they have predominantly focused on Partition and its aftermath in South Asia. The editors deviate from this frame to explore the memory of colonialism and imperialism by critically engaging with the ideas of encounters and emerging identities. \n  \nBy focusing on interactions\, relations and underlying meanings of the colonial experience\, the volume re-evaluates central\, long-standing debates about the historical impact of the Raj. The issues of memory\, identity and the legacy of the colonial encounter are woven together in a diverse range of essays on subjects such as colonial and nationalist memorials; British\, Eurasian\, Dalit and Adivasi identities; regional political configurations; and state initiatives and patterns of control. \nhttps://www.eventbrite.co.uk/e/book-launch-and-discussion-memory-identity-and-the-colonial-encounter-in-india-essays-in-honour-of-tickets-43970130845 \nPublisher: Routledge   \nhttps://www.routledge.com/Memory-Identity-and-the-Colonial-Encounter-in-India-Essays-in-Honour/Rashkow-Ghosh-Chakrabarti/p/book/9781138237056 \nISBN:  9781138237056\nNumber of pages: 338 \n 
URL:https://royalasiaticsociety.org/event/festschrift-for-professor-peter-robb-soas/
LOCATION:Royal Asiatic Society Lecture Theatre\, 14 Stephenson Way\, London\, NW1 2HD\, United Kingdom
CATEGORIES:Festschrift
ORGANIZER;CN="Amy Riach":MAILTO:ar at royalasiaticsociety.org
END:VEVENT
END:VCALENDAR