BEGIN:VCALENDAR
VERSION:2.0
PRODID:-//Royal Asiatic Society - ECPv6.15.20//NONSGML v1.0//EN
CALSCALE:GREGORIAN
METHOD:PUBLISH
X-WR-CALNAME:Royal Asiatic Society
X-ORIGINAL-URL:https://royalasiaticsociety.org
X-WR-CALDESC:Events for Royal Asiatic Society
REFRESH-INTERVAL;VALUE=DURATION:PT1H
X-Robots-Tag:noindex
X-PUBLISHED-TTL:PT1H
BEGIN:VTIMEZONE
TZID:Europe/London
BEGIN:DAYLIGHT
TZOFFSETFROM:+0000
TZOFFSETTO:+0100
TZNAME:BST
DTSTART:20240331T010000
END:DAYLIGHT
BEGIN:STANDARD
TZOFFSETFROM:+0100
TZOFFSETTO:+0000
TZNAME:GMT
DTSTART:20241027T010000
END:STANDARD
BEGIN:DAYLIGHT
TZOFFSETFROM:+0000
TZOFFSETTO:+0100
TZNAME:BST
DTSTART:20250330T010000
END:DAYLIGHT
BEGIN:STANDARD
TZOFFSETFROM:+0100
TZOFFSETTO:+0000
TZNAME:GMT
DTSTART:20251026T010000
END:STANDARD
BEGIN:DAYLIGHT
TZOFFSETFROM:+0000
TZOFFSETTO:+0100
TZNAME:BST
DTSTART:20260329T010000
END:DAYLIGHT
BEGIN:STANDARD
TZOFFSETFROM:+0100
TZOFFSETTO:+0000
TZNAME:GMT
DTSTART:20261025T010000
END:STANDARD
END:VTIMEZONE
BEGIN:VEVENT
DTSTART;TZID=Europe/London:20251028T183000
DTEND;TZID=Europe/London:20251028T203000
DTSTAMP:20260421T093359
CREATED:20250807T160221Z
LAST-MODIFIED:20250925T151242Z
UID:22155-1761676200-1761683400@royalasiaticsociety.org
SUMMARY:Prof Scott Redford - The Medieval Period:  Bilkent University Excavations at  Kinet Höyük\, Hatay\, Turkey
DESCRIPTION:This study\, focusing on the Rum Seljuk dynasty in thirteenth-century Anatolia\, combines local history\, geography\, art history\, and archaeology to examine instances of an only partially understood garden tradition in one corner of the medieval Mediterranean. Gardens\, and their architecture\, have been neglected\, not only because of the paucity of remains\, the architecture they inspired was not monumental and relied strongly on a sense of place\, and a sensitivity to the landscape. This book attempts to recover a measure of that sense and that landscape\, as well as the activities that endowed them with meaning for those that enjoyed them. \n  \nFree and open to all at 14 Stephenson Way\, NW1 2HD \nTo join us online email: mb@royalasiaticsociety.org
URL:https://royalasiaticsociety.org/event/professor-scott-redford-book-launch-landscape-and-the-state-in-medieval-anatolia-seljuk-gardens-and-pavilions-of-alanya/
LOCATION:Royal Asiatic Society Lecture Theatre\, 14 Stephenson Way\, London\, NW1 2HD\, United Kingdom
CATEGORIES:RAS Lectures & Events
ATTACH;FMTTYPE=image/jpeg:https://royalasiaticsociety.org/wp-content/uploads/2025/09/Redford-Poster_Page_1-e1758638404200.jpg
END:VEVENT
END:VCALENDAR