BEGIN:VCALENDAR
VERSION:2.0
PRODID:-//Royal Asiatic Society - ECPv6.15.20//NONSGML v1.0//EN
CALSCALE:GREGORIAN
METHOD:PUBLISH
X-ORIGINAL-URL:https://royalasiaticsociety.org
X-WR-CALDESC:Events for Royal Asiatic Society
REFRESH-INTERVAL;VALUE=DURATION:PT1H
X-Robots-Tag:noindex
X-PUBLISHED-TTL:PT1H
BEGIN:VTIMEZONE
TZID:Europe/London
BEGIN:DAYLIGHT
TZOFFSETFROM:+0000
TZOFFSETTO:+0100
TZNAME:BST
DTSTART:20240331T010000
END:DAYLIGHT
BEGIN:STANDARD
TZOFFSETFROM:+0100
TZOFFSETTO:+0000
TZNAME:GMT
DTSTART:20241027T010000
END:STANDARD
BEGIN:DAYLIGHT
TZOFFSETFROM:+0000
TZOFFSETTO:+0100
TZNAME:BST
DTSTART:20250330T010000
END:DAYLIGHT
BEGIN:STANDARD
TZOFFSETFROM:+0100
TZOFFSETTO:+0000
TZNAME:GMT
DTSTART:20251026T010000
END:STANDARD
BEGIN:DAYLIGHT
TZOFFSETFROM:+0000
TZOFFSETTO:+0100
TZNAME:BST
DTSTART:20260329T010000
END:DAYLIGHT
BEGIN:STANDARD
TZOFFSETFROM:+0100
TZOFFSETTO:+0000
TZNAME:GMT
DTSTART:20261025T010000
END:STANDARD
END:VTIMEZONE
BEGIN:VEVENT
DTSTART;TZID=Europe/London:20251023T163000
DTEND;TZID=Europe/London:20251023T173000
DTSTAMP:20260419T152507
CREATED:20250903T164346Z
LAST-MODIFIED:20250903T164346Z
UID:22187-1761237000-1761240600@royalasiaticsociety.org
SUMMARY:Monograph Board
DESCRIPTION:
URL:https://royalasiaticsociety.org/event/monograph-board/
END:VEVENT
BEGIN:VEVENT
DTSTART;TZID=Europe/London:20251023T183000
DTEND;TZID=Europe/London:20251023T203000
DTSTAMP:20260419T152507
CREATED:20250805T155959Z
LAST-MODIFIED:20250925T150850Z
UID:22153-1761244200-1761251400@royalasiaticsociety.org
SUMMARY:Prof. Usha Vijailakshmi - Stewards of Heritage: The Asiatic Society of Mumbai’s Legacy and Contemporary Role
DESCRIPTION:Founded in 1804 by James Mackintosh\, the Asiatic Society of Mumbai was envisioned as both a research body and a library\, dedicated to advancing knowledge of the East in fields ranging from Sanskrit studies and history to geology\, botany\, and medicine. At a time when Bombay lacked institutions of higher learning\, the Society became a hub of intellectual exchange\, sustained by British administrators\, Indian scholars\, and local patrons. Over two centuries\, it has amassed a vast collection of manuscripts\, coins\, inscriptions\, and rare books\, while also shaping public intellectual life through lectures and publications. \nYet today\, the Society faces pressing challenges: financial constraints\, administrative pressures\, and the delicate balance of autonomy with state obligations. Despite these hurdles\, it continues to catalogue\, conserve\, and engage the public\, striving to uphold its relevance in a rapidly changing academic and cultural landscape. This talk examines the Society’s enduring significance and the formidable challenges it faces in sustaining its legacy. \n  \nFree and open to all at 14 Stephenson Way\, NW1 2HD \nTo join us online email: mb@royalasiaticsociety.org
URL:https://royalasiaticsociety.org/event/prof-usha-vijailakshmi-stewards-of-heritage-the-asiatic-society-of-mumbais-legacy-and-contemporary-role/
LOCATION:Royal Asiatic Society Lecture Theatre\, 14 Stephenson Way\, London\, NW1 2HD\, United Kingdom
CATEGORIES:RAS Lectures & Events
ATTACH;FMTTYPE=image/jpeg:https://royalasiaticsociety.org/wp-content/uploads/2025/09/Usha-Poster_Page_1-1-e1758637900185-1.jpg
END:VEVENT
END:VCALENDAR